BEGIN:VCALENDAR
VERSION:2.0
PRODID:-//Babst Calland - Attorneys at Law - ECPv6.2.8.1//NONSGML v1.0//EN
CALSCALE:GREGORIAN
METHOD:PUBLISH
X-ORIGINAL-URL:https://www.babstcalland.com

REFRESH-INTERVAL;VALUE=DURATION:PT1H
X-Robots-Tag:noindex
X-PUBLISHED-TTL:PT1H
BEGIN:VTIMEZONE
TZID:America/New_York
BEGIN:DAYLIGHT
TZOFFSETFROM:-0500
TZOFFSETTO:-0400
TZNAME:EDT
DTSTART:20190310T070000
END:DAYLIGHT
BEGIN:STANDARD
TZOFFSETFROM:-0400
TZOFFSETTO:-0500
TZNAME:EST
DTSTART:20191103T060000
END:STANDARD
END:VTIMEZONE
BEGIN:VEVENT
DTSTART;TZID=America/New_York:20190925T113000
DTEND;TZID=America/New_York:20190927T121500
DTSTAMP:20260423T192740
CREATED:20190531T194901Z
LAST-MODIFIED:20221018T210330Z
UID:24030-1569411000-1569586500@www.babstcalland.com
SUMMARY:RMMLF's Special Institute on Oil & Gas Mineral Title Examination
DESCRIPTION:Attorneys Paul Atencio and Elena Rorabaugh will co-present “Title Due Diligence for Acquisition\, Disposition\, and Trade Transactions” at the Rocky Mountain Mineral Law Foundation’s (RMMLF) Special Institute on Oil & Gas Mineral Title Examination\, September 25-27\, 2019. \nTopics include: \n\nStrategies and tools for planning\, coordinating\, and managing the due diligence process\nPlanning an effective process through establishing client expectations and use of materiality standards\, checklists\, and instruction sheets\nInformation collection\, organization\, and review; use of experts; training\, and team management\nReporting results to client\, both in real time and in formal reports\nAssisting or directing the title defect notice and curative process\nStrategies for bankruptcy\, data rooms\, and auction transactions\n\nFor more information\, click here.
URL:https://www.babstcalland.com/event/24030/
LOCATION:The Westin Westminster\, 10600 Westminster Blvd.\, Westminster\, CO\, 80020\, United States
CATEGORIES:CLE,Conferences,Presentations
END:VEVENT
END:VCALENDAR