BEGIN:VCALENDAR
VERSION:2.0
PRODID:-//Babst Calland - Attorneys at Law - ECPv6.2.8.1//NONSGML v1.0//EN
CALSCALE:GREGORIAN
METHOD:PUBLISH
X-ORIGINAL-URL:https://www.babstcalland.com

REFRESH-INTERVAL;VALUE=DURATION:PT1H
X-Robots-Tag:noindex
X-PUBLISHED-TTL:PT1H
BEGIN:VTIMEZONE
TZID:America/New_York
BEGIN:DAYLIGHT
TZOFFSETFROM:-0500
TZOFFSETTO:-0400
TZNAME:EDT
DTSTART:20190310T070000
END:DAYLIGHT
BEGIN:STANDARD
TZOFFSETFROM:-0400
TZOFFSETTO:-0500
TZNAME:EST
DTSTART:20191103T060000
END:STANDARD
END:VTIMEZONE
BEGIN:VEVENT
DTSTART;TZID=America/New_York:20191022T100000
DTEND;TZID=America/New_York:20191024T120000
DTSTAMP:20260424T214954
CREATED:20190930T183309Z
LAST-MODIFIED:20251118T211727Z
UID:24837-1571738400-1571918400@www.babstcalland.com
SUMMARY:Shale Insight 2019
DESCRIPTION:Join Babst Calland at Shale Insight 2019\, October 22-24\, 2019. Shale Insight offers participants unprecedented interaction with industry-leading CEOs\, elected officials and thought leaders\, all of whom play a critical role in crafting the public policy and technical landscape that defines shale gas development around the world. Insightful technical and public affairs sessions\, national keynote addresses\, and high-powered networking sessions will provide attendees\, sponsors\, and exhibitors unprecedented access to the industry’s most influential leaders and innovators. \nAttorneys Blaine Lucas and Krista Staley will be participating in a session titled “Beyond Zoning: Other Local Government Issues Encountered By Oil and Gas Operations.” This program will provide an overview of non-zoning regulations operators encounter at the local level and address best management practices operators can implement to mitigate impacts on their projects. \nAttorneys Kevin Garber and Jay Hammond will be participating in a session titled “Water and Waste Management: New Trends in Water Procurement and Treatment.” As the play has matured\, trends in water procurement\, management and transfers have changed with increased focus on pipeline solutions. Water-related technologies and logistics have evolved with increasing reuse of produced water. Hear from industry experts on these topics as well as the latest trends in water management\, particularly related to water transfers and sharing agreements. \nBlaine Lucas \nKrista Staley \nKevin Garber \nJay Hammond
URL:https://www.babstcalland.com/event/shale-insight-2019/
LOCATION:David L. Lawrence Convention Center\, 1000 Fort Duquesne Blvd. \, Pittsburgh\, PA\, 15222\, United States
CATEGORIES:Conferences,Presentations
END:VEVENT
END:VCALENDAR