BEGIN:VCALENDAR
VERSION:2.0
PRODID:-//Babst Calland - Attorneys at Law - ECPv6.2.8.1//NONSGML v1.0//EN
CALSCALE:GREGORIAN
METHOD:PUBLISH

X-ORIGINAL-URL:https://www.babstcalland.com

REFRESH-INTERVAL;VALUE=DURATION:PT1H
X-Robots-Tag:noindex
X-PUBLISHED-TTL:PT1H
BEGIN:VTIMEZONE
TZID:America/New_York
BEGIN:DAYLIGHT
TZOFFSETFROM:-0500
TZOFFSETTO:-0400
TZNAME:EDT
DTSTART:20190310T070000
END:DAYLIGHT
BEGIN:STANDARD
TZOFFSETFROM:-0400
TZOFFSETTO:-0500
TZNAME:EST
DTSTART:20191103T060000
END:STANDARD
END:VTIMEZONE
BEGIN:VEVENT
DTSTART;TZID=America/New_York:20191030T173000
DTEND;TZID=America/New_York:20191030T210000
DTSTAMP:20260424T151856
CREATED:20190926T183257Z
LAST-MODIFIED:20221220T145450Z
UID:24820-1572456600-1572469200@www.babstcalland.com
SUMMARY:Boys and Girls Country's Annual Heritage Award Dinner
DESCRIPTION:Babst Calland joins Boys and Girl Country on Wednesday\, October 30\, 2019 for its annual Heritage Award Dinner. Boys and Girls Country’s mission is to change the lives of children from families in crisis by loving and nurturing them in a Christian home environment\, raising them to become self-sustaining and contributing adults.  For more information\, click here.
URL:https://www.babstcalland.com/event/boys-and-girls-countrys-annual-heritage-award-dinner-2/
LOCATION:Hilton Americas Houston\, 1600 Lamar St.\, Houston\, PA\, 77010\, United States
CATEGORIES:Charity
END:VEVENT
END:VCALENDAR