BEGIN:VCALENDAR
VERSION:2.0
PRODID:-//Babst Calland - Attorneys at Law - ECPv6.2.8.1//NONSGML v1.0//EN
CALSCALE:GREGORIAN
METHOD:PUBLISH
X-ORIGINAL-URL:https://www.babstcalland.com

REFRESH-INTERVAL;VALUE=DURATION:PT1H
X-Robots-Tag:noindex
X-PUBLISHED-TTL:PT1H
BEGIN:VTIMEZONE
TZID:America/New_York
BEGIN:DAYLIGHT
TZOFFSETFROM:-0500
TZOFFSETTO:-0400
TZNAME:EDT
DTSTART:20190310T070000
END:DAYLIGHT
BEGIN:STANDARD
TZOFFSETFROM:-0400
TZOFFSETTO:-0500
TZNAME:EST
DTSTART:20191103T060000
END:STANDARD
END:VTIMEZONE
BEGIN:VEVENT
DTSTART;VALUE=DATE:20191108
DTEND;VALUE=DATE:20191110
DTSTAMP:20260424T165547
CREATED:20200917T143800Z
LAST-MODIFIED:20221018T210326Z
UID:28197-1573171200-1573343999@www.babstcalland.com
SUMMARY:SHALE GAS LAW 2019
DESCRIPTION:Attorneys Kip Power and Shannon Rutherford will present “Clean Water Act Sections 401\, 404 and 505: Citizen Suits Based on Water Quality Certifications for Energy Projects\,” at WVU College of Law’s Shale Gas Law 2019 on November 8-9\, 2019. \nA state must issue a water quality certification under Clean Water Act Section 401 in order to make effective any federal permit issued under other Clean Water Act provisions that authorize discharges into waters of the United States. Energy projects often require permits under Clean Water Act Section 404 to allow the lawful placement of fill material into jurisdictional waters. Pursuant to Clean Water Act Section 505\, citizen suits may be commenced against entities that are in violation of an “effluent standard or limitation\,” including “certification under [Clean Water Act Section 401].” This presentation will explore the extent to which conditions that are attached to Section 401 Certifications may serve as a basis for Clean Water Act citizen suits\, and the ramifications of this potential exposure for those seeking to construct energy projects. For more information\, click here.
URL:https://www.babstcalland.com/event/shale-gas-law-2019/
LOCATION:WVU College of Law\, 101 Law School Dr. \, Morgantown \, WV\, 26506\, United States
CATEGORIES:CLE,Conferences,Presentations
END:VEVENT
END:VCALENDAR