BEGIN:VCALENDAR
VERSION:2.0
PRODID:-//Babst Calland - Attorneys at Law - ECPv6.2.8.1//NONSGML v1.0//EN
CALSCALE:GREGORIAN
METHOD:PUBLISH

X-ORIGINAL-URL:https://www.babstcalland.com

REFRESH-INTERVAL;VALUE=DURATION:PT1H
X-Robots-Tag:noindex
X-PUBLISHED-TTL:PT1H
BEGIN:VTIMEZONE
TZID:America/New_York
BEGIN:DAYLIGHT
TZOFFSETFROM:-0500
TZOFFSETTO:-0400
TZNAME:EDT
DTSTART:20190310T070000
END:DAYLIGHT
BEGIN:STANDARD
TZOFFSETFROM:-0400
TZOFFSETTO:-0500
TZNAME:EST
DTSTART:20191103T060000
END:STANDARD
END:VTIMEZONE
BEGIN:VEVENT
DTSTART;TZID=America/New_York:20191120T120000
DTEND;TZID=America/New_York:20191120T130000
DTSTAMP:20260424T151901
CREATED:20191119T130041Z
LAST-MODIFIED:20221018T210325Z
UID:25198-1574251200-1574254800@www.babstcalland.com
SUMMARY:CLE Program: Due Diligence for Transactions: Planning\, Management & The Role of Technology
DESCRIPTION:Attorneys Paul Atencio and Elena Rorabaugh will present a CLE program on “Due Diligence for Transactions: Planning\, Management & The Role of Technology” on Wednesday\, November 20\, 2019. \nThe program will address such topics as: \n\nHow a transaction agreement shapes the due diligence process\nThe types of work required in due diligence (substantive vs. administrative)\nHow technology can assist (digital data rooms\, creation of asset schedules)\nUtilizing and creating databases\n\n*Space is limited.
URL:https://www.babstcalland.com/event/cle-program-due-diligence-for-transactions-planning-management-the-role-of-technology/
LOCATION:BabstCalland_Pit_0119
CATEGORIES:CLE,Presentations
ORGANIZER;CN="Denise Gevaudan":MAILTO:dgevaudan@babstcalland.com
END:VEVENT
END:VCALENDAR