BEGIN:VCALENDAR
VERSION:2.0
PRODID:-//Babst Calland - Attorneys at Law - ECPv6.2.8.1//NONSGML v1.0//EN
CALSCALE:GREGORIAN
METHOD:PUBLISH

X-ORIGINAL-URL:https://www.babstcalland.com

REFRESH-INTERVAL;VALUE=DURATION:PT1H
X-Robots-Tag:noindex
X-PUBLISHED-TTL:PT1H
BEGIN:VTIMEZONE
TZID:America/New_York
BEGIN:DAYLIGHT
TZOFFSETFROM:-0500
TZOFFSETTO:-0400
TZNAME:EDT
DTSTART:20200308T070000
END:DAYLIGHT
BEGIN:STANDARD
TZOFFSETFROM:-0400
TZOFFSETTO:-0500
TZNAME:EST
DTSTART:20201101T060000
END:STANDARD
END:VTIMEZONE
BEGIN:VEVENT
DTSTART;TZID=America/New_York:20200116T120000
DTEND;TZID=America/New_York:20200116T130000
DTSTAMP:20260424T121313
CREATED:20200115T130010Z
LAST-MODIFIED:20221018T210324Z
UID:25883-1579176000-1579179600@www.babstcalland.com
SUMMARY:CLE Program: Chemical Facility Anti-Terrorism Standards
DESCRIPTION:Attorney Boyd Stephenson will present a CLE program on “Chemical Facility Anti-Terrorism Standards” on Friday\, January 16\, 2020. This program will include an overview of the Department of Homeland Security regulations to ensure that those utilizing potentially hazardous chemicals have necessary measures in place to reduce risks of those chemicals being exploited by terrorists. Covered industries include chemical manufacturing\, storage facilities\, energy and utilities\, mining\, paint and coatings\, and even healthcare. \n*Space is limited. \n 
URL:https://www.babstcalland.com/event/cle-program-chemical-facility-anti-terrorism-standards/
LOCATION:BabstCalland_Pit_0119
CATEGORIES:CLE,Presentations
END:VEVENT
BEGIN:VEVENT
DTSTART;TZID=America/New_York:20200116T173000
DTEND;TZID=America/New_York:20200116T203000
DTSTAMP:20260424T121313
CREATED:20200106T163603Z
LAST-MODIFIED:20221018T210324Z
UID:25739-1579195800-1579206600@www.babstcalland.com
SUMMARY:MLBC's January Dinner Meeting
DESCRIPTION:Attorney Nik Tysiak will present “Navigating the Tax Sale Maze” at MLBC’s January Dinner Meeting on Thursday\, January 16\, 2020.
URL:https://www.babstcalland.com/event/mlbcs-january-dinner-meeting/
LOCATION:Hilton Garden Inn at Southpointe\, 1000 Corporate Drive\, Canonsburg\, PA\, 15317\, United States
CATEGORIES:Presentations
END:VEVENT
END:VCALENDAR