BEGIN:VCALENDAR
VERSION:2.0
PRODID:-//Babst Calland - Attorneys at Law - ECPv6.2.8.1//NONSGML v1.0//EN
CALSCALE:GREGORIAN
METHOD:PUBLISH

X-ORIGINAL-URL:https://www.babstcalland.com

REFRESH-INTERVAL;VALUE=DURATION:PT1H
X-Robots-Tag:noindex
X-PUBLISHED-TTL:PT1H
BEGIN:VTIMEZONE
TZID:America/New_York
BEGIN:DAYLIGHT
TZOFFSETFROM:-0500
TZOFFSETTO:-0400
TZNAME:EDT
DTSTART:20200308T070000
END:DAYLIGHT
BEGIN:STANDARD
TZOFFSETFROM:-0400
TZOFFSETTO:-0500
TZNAME:EST
DTSTART:20201101T060000
END:STANDARD
END:VTIMEZONE
BEGIN:VEVENT
DTSTART;TZID=America/New_York:20200123T113000
DTEND;TZID=America/New_York:20200123T130000
DTSTAMP:20260424T121313
CREATED:20200116T194300Z
LAST-MODIFIED:20221130T142811Z
UID:25889-1579779000-1579784400@www.babstcalland.com
SUMMARY:Successful Contract Negotiations
DESCRIPTION:Attorneys Sara Antol and Justine Kasznica will present a CLE on “Successful Contract Negotiations” for the Western Pennsylvania Chapter of the Association for Corporate Counsel (ACC) on Thursday\, January 23\, 2020. This seminar will discuss how to negotiate contracts and will present a “Tool Kit” with sample language. For more information\, click here. \nSara Antol \nJustine Kasznica
URL:https://www.babstcalland.com/event/successful-contract-negotiations/
LOCATION:NOVA Place\, 100 South Commons\, Pittsburgh\, PA\, 15212\, United States
CATEGORIES:CLE,Presentations
END:VEVENT
END:VCALENDAR