BEGIN:VCALENDAR
VERSION:2.0
PRODID:-//Babst Calland - Attorneys at Law - ECPv6.2.8.1//NONSGML v1.0//EN
CALSCALE:GREGORIAN
METHOD:PUBLISH

X-ORIGINAL-URL:https://www.babstcalland.com

REFRESH-INTERVAL;VALUE=DURATION:PT1H
X-Robots-Tag:noindex
X-PUBLISHED-TTL:PT1H
BEGIN:VTIMEZONE
TZID:America/New_York
BEGIN:DAYLIGHT
TZOFFSETFROM:-0500
TZOFFSETTO:-0400
TZNAME:EDT
DTSTART:20200308T070000
END:DAYLIGHT
BEGIN:STANDARD
TZOFFSETFROM:-0400
TZOFFSETTO:-0500
TZNAME:EST
DTSTART:20201101T060000
END:STANDARD
END:VTIMEZONE
BEGIN:VEVENT
DTSTART;TZID=America/New_York:20200306T083000
DTEND;TZID=America/New_York:20200306T170000
DTSTAMP:20260423T165927
CREATED:20200224T200953Z
LAST-MODIFIED:20221130T142811Z
UID:26444-1583483400-1583514000@www.babstcalland.com
SUMMARY:Returning to the Moon: A Legal Symposium
DESCRIPTION:Attorney Justine Kasznica will present on “How Ohio Companies Can Get Involved in the Artemis Program“ at Returning to the Moon: A Legal Symposium on Friday\, March 6\, 2020. This symposium will explore the various legal challenges surrounding the return to the Moon including property claims\, military activity\, commercial ventures\, jurisdictional issues\, environmental sustainability\, and natural resource extraction. For more information\, click here.
URL:https://www.babstcalland.com/event/26444/
LOCATION:Cleveland Marshall College of Law\, 1801 Euclid Ave.\, Cleveland\, OH\, 44115\, United States
CATEGORIES:CLE,Presentations
END:VEVENT
END:VCALENDAR