BEGIN:VCALENDAR
VERSION:2.0
PRODID:-//Babst Calland - Attorneys at Law - ECPv6.2.8.1//NONSGML v1.0//EN
CALSCALE:GREGORIAN
METHOD:PUBLISH

X-ORIGINAL-URL:https://www.babstcalland.com

REFRESH-INTERVAL;VALUE=DURATION:PT1H
X-Robots-Tag:noindex
X-PUBLISHED-TTL:PT1H
BEGIN:VTIMEZONE
TZID:America/New_York
BEGIN:DAYLIGHT
TZOFFSETFROM:-0500
TZOFFSETTO:-0400
TZNAME:EDT
DTSTART:20220313T070000
END:DAYLIGHT
BEGIN:STANDARD
TZOFFSETFROM:-0400
TZOFFSETTO:-0500
TZNAME:EST
DTSTART:20221106T060000
END:STANDARD
END:VTIMEZONE
BEGIN:VEVENT
DTSTART;TZID=America/New_York:20220406T200000
DTEND;TZID=America/New_York:20220406T203000
DTSTAMP:20260419T095921
CREATED:20220318T143554Z
LAST-MODIFIED:20221018T210440Z
UID:34619-1649275200-1649277000@www.babstcalland.com
SUMMARY:POWER Promises - 2022 A Night of Hope
DESCRIPTION:Babst Calland joins POWER Promises – A Night of Hope on Wednesday\, April 6\, 2022. For more information\, click here.
URL:https://www.babstcalland.com/event/power-promises-2022-a-night-of-hope/
LOCATION:Virtual
CATEGORIES:Charity,Webinars
END:VEVENT
BEGIN:VEVENT
DTSTART;TZID=America/New_York:20220423T190000
DTEND;TZID=America/New_York:20220423T220000
DTSTAMP:20260419T095921
CREATED:20220301T161259Z
LAST-MODIFIED:20221018T210439Z
UID:34516-1650740400-1650751200@www.babstcalland.com
SUMMARY:Irish Night - Row on for Brendan
DESCRIPTION:Babst Calland joins Central Catholic High School for its Irish Night – Row on for Brendan. Irish Night is a lively performance of Irish music and dance held in tribute to Brendan Foley\, who brightened the halls of Central Catholic High School\, rowed for the school\, and left the world a better place for his 15-and-a-half years of life. For more information\, click here.
URL:https://www.babstcalland.com/event/irish-night-row-on-for-brendan/
CATEGORIES:Charity
END:VEVENT
BEGIN:VEVENT
DTSTART;TZID=America/New_York:20220425T173000
DTEND;TZID=America/New_York:20220425T210000
DTSTAMP:20260419T095921
CREATED:20220303T211109Z
LAST-MODIFIED:20221018T210439Z
UID:34536-1650907800-1650920400@www.babstcalland.com
SUMMARY:2022 Charleston Scholarship Dinner
DESCRIPTION:Babst Calland joins the Mountaineer Athletic Club for its 2022 Charleston Scholarship Dinner on Monday\, April 25\, 2022. For more information\, click here.
URL:https://www.babstcalland.com/event/2022-charleston-scholarship-dinner/
LOCATION:Charleston Coliseum and Convention Center
CATEGORIES:Charity,Networking Event
END:VEVENT
END:VCALENDAR