BEGIN:VCALENDAR
VERSION:2.0
PRODID:-//Babst Calland - Attorneys at Law - ECPv6.2.8.1//NONSGML v1.0//EN
CALSCALE:GREGORIAN
METHOD:PUBLISH

X-ORIGINAL-URL:https://www.babstcalland.com

REFRESH-INTERVAL;VALUE=DURATION:PT1H
X-Robots-Tag:noindex
X-PUBLISHED-TTL:PT1H
BEGIN:VTIMEZONE
TZID:America/New_York
BEGIN:DAYLIGHT
TZOFFSETFROM:-0500
TZOFFSETTO:-0400
TZNAME:EDT
DTSTART:20220313T070000
END:DAYLIGHT
BEGIN:STANDARD
TZOFFSETFROM:-0400
TZOFFSETTO:-0500
TZNAME:EST
DTSTART:20221106T060000
END:STANDARD
END:VTIMEZONE
BEGIN:VEVENT
DTSTART;VALUE=DATE:20220718
DTEND;VALUE=DATE:20220719
DTSTAMP:20260420T034446
CREATED:20220606T183022Z
LAST-MODIFIED:20221018T210526Z
UID:35542-1658102400-1658188799@www.babstcalland.com
SUMMARY:2022 Summer Swing Golf Classic
DESCRIPTION:Babst Calland joins St. Clair Hospital at its Annual Summer Swing Golf Classic on Monday\, July 18\, 2022. All event proceeds will be invested in the education and learning of St. Clair Health Foundation’s workforce for generations to come. For more information\, click here.
URL:https://www.babstcalland.com/event/st-clair-hospitals-annual-summer-swing-golf-classic-3/
LOCATION:St. Clair Country Club\, 2300 Old Washington Rd. \, Pittsburgh\, PA\, 15241\, United States
CATEGORIES:Charity,Networking Event
END:VEVENT
BEGIN:VEVENT
DTSTART;VALUE=DATE:20220723
DTEND;VALUE=DATE:20220724
DTSTAMP:20260420T034447
CREATED:20220701T125657Z
LAST-MODIFIED:20221018T210526Z
UID:36036-1658534400-1658620799@www.babstcalland.com
SUMMARY:2022 GOH Annual Charity Golf Outing
DESCRIPTION:Babst Calland joins Glenn O. Hawbaker (GOH) for its Annual Charity Golf Outing on Saturday\, July 23\, 2022. For more information\, click here.
URL:https://www.babstcalland.com/event/2022-goh-annual-charity-golf-outing/
LOCATION:White Deer Golf Course
CATEGORIES:Charity,Networking Event
END:VEVENT
BEGIN:VEVENT
DTSTART;TZID=America/New_York:20220725T103000
DTEND;TZID=America/New_York:20220725T170000
DTSTAMP:20260420T034447
CREATED:20220608T150316Z
LAST-MODIFIED:20221018T210526Z
UID:35553-1658745000-1658768400@www.babstcalland.com
SUMMARY:28th Annual ACBA Golf Tournament
DESCRIPTION:Babst Calland joins the Allegheny County Bar Association (ACBA) for its 28th Annual Golf Tournament on Monday\, July 25\, 2022. Proceeds from this event benefit the Allegheny County Bar Foundation and Neighborhood Legal Services. For more information\, click here.
URL:https://www.babstcalland.com/event/28th-annual-acba-golf-tournament/
LOCATION:Long Vue Club\, 410 Longue Vue Drive\, Long Vue\, PA\, 15147\, United States
CATEGORIES:Charity,Networking Event
END:VEVENT
BEGIN:VEVENT
DTSTART;TZID=America/New_York:20220729T073000
DTEND;TZID=America/New_York:20220729T150000
DTSTAMP:20260420T034447
CREATED:20220309T161320Z
LAST-MODIFIED:20221018T210526Z
UID:34569-1659079800-1659106800@www.babstcalland.com
SUMMARY:United Way of Washington County's 13th Annual Campaign Kickoff Golf Outing
DESCRIPTION:Babst Calland joins the United Way of Washington County for its 13th Annual Campaign Kickoff Golf Outing on Friday\, July 29\, 2022. Proceeds from this Outing benefit United Way’s Community Impact Fund. For more information\, click here.
URL:https://www.babstcalland.com/event/united-way-of-washington-countys-13th-annual-campaign-kickoff-golf-outing/
LOCATION:Lone Pine Country Club\, 2755 Park Avenue\, Washington\, PA\, 15301\, United States
CATEGORIES:Charity
END:VEVENT
BEGIN:VEVENT
DTSTART;TZID=America/New_York:20220729T090000
DTEND;TZID=America/New_York:20220729T170000
DTSTAMP:20260420T034447
CREATED:20220713T130916Z
LAST-MODIFIED:20221018T210525Z
UID:36451-1659085200-1659114000@www.babstcalland.com
SUMMARY:2022 Bricks & Sticks Golf Classic
DESCRIPTION:Babst Calland joins Habitat for Humanity of Greater Centre County for its Bricks and Sticks Golf Classic on Friday\, July 29\, 2022. For more information\, click here.
URL:https://www.babstcalland.com/event/2022-bricks-sticks-golf-classic/
LOCATION:Penn State Golf Courses\, 1523 West College Ave. \, State College \, PA\, 16801\, United States
CATEGORIES:Charity,Networking Event
END:VEVENT
END:VCALENDAR