BEGIN:VCALENDAR
VERSION:2.0
PRODID:-//Babst Calland - Attorneys at Law - ECPv6.2.8.1//NONSGML v1.0//EN
CALSCALE:GREGORIAN
METHOD:PUBLISH

X-ORIGINAL-URL:https://www.babstcalland.com

REFRESH-INTERVAL;VALUE=DURATION:PT1H
X-Robots-Tag:noindex
X-PUBLISHED-TTL:PT1H
BEGIN:VTIMEZONE
TZID:America/New_York
BEGIN:DAYLIGHT
TZOFFSETFROM:-0500
TZOFFSETTO:-0400
TZNAME:EDT
DTSTART:20220313T070000
END:DAYLIGHT
BEGIN:STANDARD
TZOFFSETFROM:-0400
TZOFFSETTO:-0500
TZNAME:EST
DTSTART:20221106T060000
END:STANDARD
END:VTIMEZONE
BEGIN:VEVENT
DTSTART;TZID=America/New_York:20220907T173000
DTEND;TZID=America/New_York:20220907T220000
DTSTAMP:20260422T083641
CREATED:20220729T172235Z
LAST-MODIFIED:20221018T210523Z
UID:36976-1662571800-1662588000@www.babstcalland.com
SUMMARY:Trust: Building on the Dream Gala
DESCRIPTION:Babst Calland joins the Pittsburgh Cultural Trust for its “Trust: Building on the Dream Gala” on Wednesday\, September 7\, 2022. This Gala will be a  celebration of the Band of Dreamers who conceived of the Cultural District more than 35 years ago and all the innovative ways the Pittsburgh Cultural Trust will create an even more vibrant\, welcoming\, world-class arts neighborhood for Pittsburgh! For more information\, click here.
URL:https://www.babstcalland.com/event/trust-building-on-the-dream-gala/
LOCATION:Benedum Center\, 237 7th St.\, Pittsburgh\, PA\, 15212\, United States
CATEGORIES:Charity
END:VEVENT
BEGIN:VEVENT
DTSTART;VALUE=DATE:20220908
DTEND;VALUE=DATE:20220910
DTSTAMP:20260422T083641
CREATED:20220901T134838Z
LAST-MODIFIED:20240326T135225Z
UID:37191-1662595200-1662767999@www.babstcalland.com
SUMMARY:11th Annual Fly Fishing Classic
DESCRIPTION:Babst Calland joins Magee-Womens Research Institute & Foundation for its 11th Annual Fly Fishing Classic\, September 8-9\, 2022. This event supports the Women’s Cancer Research Center’s efforts to reduce the incidence of death from women’s cancers. For more information\, click here.
URL:https://www.babstcalland.com/event/11th-annual-fly-fishing-classic/
CATEGORIES:Charity
END:VEVENT
BEGIN:VEVENT
DTSTART;TZID=America/New_York:20220912T090000
DTEND;TZID=America/New_York:20220912T160000
DTSTAMP:20260422T083641
CREATED:20220728T140848Z
LAST-MODIFIED:20221018T210523Z
UID:36955-1662973200-1662998400@www.babstcalland.com
SUMMARY:Veteran’s Charity Golf Classic
DESCRIPTION:Babst Calland joins the Mahoning Chapter of the Daughters of the American Revolution (DAR) and Mahoning Valley Sons of the American Revolution (SAR) for their annual Veteran’s Charity Golf Classic on Monday\, September 12\, 2022. Proceeds from this event help local veterans as well as those actively serving and honor those veterans who have passed. For more information\, click here.
URL:https://www.babstcalland.com/event/veterans-charity-golf-classic/
LOCATION:Youngstown Country Club
CATEGORIES:Charity,Networking Event
END:VEVENT
BEGIN:VEVENT
DTSTART;TZID=America/New_York:20220916T093000
DTEND;TZID=America/New_York:20220916T180000
DTSTAMP:20260422T083641
CREATED:20220719T174632Z
LAST-MODIFIED:20221018T210522Z
UID:36807-1663320600-1663351200@www.babstcalland.com
SUMMARY:2022 On the Field
DESCRIPTION:Babst Calland joins the Centre County Youth Service Bureau (CCYSB) for On the Field on Friday\, September 16\, 2022. All proceeds benefit the CCYSB\, a private nonprofit organization that has been strengthening children and families since 1968. Through an extensive array of programs working with parents of newborns up through older teens moving out on their own\, CCYSB works to keep kids safe and give every child the opportunity to reach his or her potential. For more information\, click here.
URL:https://www.babstcalland.com/event/2022-on-the-field/
LOCATION:Shenecoy Sportsmen
CATEGORIES:Charity,Networking Event
END:VEVENT
END:VCALENDAR