BEGIN:VCALENDAR
VERSION:2.0
PRODID:-//Babst Calland - Attorneys at Law - ECPv6.2.8.1//NONSGML v1.0//EN
CALSCALE:GREGORIAN
METHOD:PUBLISH
X-ORIGINAL-URL:https://www.babstcalland.com

REFRESH-INTERVAL;VALUE=DURATION:PT1H
X-Robots-Tag:noindex
X-PUBLISHED-TTL:PT1H
BEGIN:VTIMEZONE
TZID:America/New_York
BEGIN:DAYLIGHT
TZOFFSETFROM:-0500
TZOFFSETTO:-0400
TZNAME:EDT
DTSTART:20230312T070000
END:DAYLIGHT
BEGIN:STANDARD
TZOFFSETFROM:-0400
TZOFFSETTO:-0500
TZNAME:EST
DTSTART:20231105T060000
END:STANDARD
END:VTIMEZONE
BEGIN:VEVENT
DTSTART;TZID=America/New_York:20230211T160000
DTEND;TZID=America/New_York:20230211T210000
DTSTAMP:20260423T001449
CREATED:20230106T193338Z
LAST-MODIFIED:20240103T154925Z
UID:39582-1676131200-1676149200@www.babstcalland.com
SUMMARY:KECA's Annual Fundraising Banquet
DESCRIPTION:Babst Calland joins the Keystone Elk Country Alliance’s (KECA) Pittsburgh Chapter for its Annual Fundraising Banquet on Saturday\, February 11\, 2023. For more information\, click here.
URL:https://www.babstcalland.com/event/kecas-pittsburgh-chapters-annual-fundraising-banquet/
LOCATION:Doubletree in Cranberry Township
CATEGORIES:Charity,Networking Event
END:VEVENT
END:VCALENDAR