BEGIN:VCALENDAR
VERSION:2.0
PRODID:-//Babst Calland - Attorneys at Law - ECPv6.2.8.1//NONSGML v1.0//EN
CALSCALE:GREGORIAN
METHOD:PUBLISH

X-ORIGINAL-URL:https://www.babstcalland.com

REFRESH-INTERVAL;VALUE=DURATION:PT1H
X-Robots-Tag:noindex
X-PUBLISHED-TTL:PT1H
BEGIN:VTIMEZONE
TZID:America/New_York
BEGIN:DAYLIGHT
TZOFFSETFROM:-0500
TZOFFSETTO:-0400
TZNAME:EDT
DTSTART:20230312T070000
END:DAYLIGHT
BEGIN:STANDARD
TZOFFSETFROM:-0400
TZOFFSETTO:-0500
TZNAME:EST
DTSTART:20231105T060000
END:STANDARD
END:VTIMEZONE
BEGIN:VEVENT
DTSTART;TZID=America/New_York:20230724T080000
DTEND;TZID=America/New_York:20230724T170000
DTSTAMP:20260423T065727
CREATED:20230508T143638Z
LAST-MODIFIED:20230508T143638Z
UID:41837-1690185600-1690218000@www.babstcalland.com
SUMMARY:29th Annual ACBA Golf Tournament
DESCRIPTION:Babst Calland joins the Allegheny County Bar Association (ACBA) for its 29th Annual Golf Tournament on Monday\, July 24\, 2023. Proceeds from this event benefit the Allegheny County Bar Foundation and Neighborhood Legal Services. For more information\, click here.
URL:https://www.babstcalland.com/event/29th-annual-acba-golf-tournament/
LOCATION:Diamond Run Golf Club
CATEGORIES:Charity,Networking Event
END:VEVENT
BEGIN:VEVENT
DTSTART;TZID=America/New_York:20230724T110000
DTEND;TZID=America/New_York:20230724T180000
DTSTAMP:20260423T065727
CREATED:20230427T175320Z
LAST-MODIFIED:20230427T175320Z
UID:41334-1690196400-1690221600@www.babstcalland.com
SUMMARY:2023 Summer Swing Golf Classic
DESCRIPTION:Babst Calland joins St. Clair Health Foundation for its Annual Summer Swing Golf Classic on Monday\, July 24\, 2023. All event proceeds will be invested in the education and learning of St. Clair Health Foundation’s workforce for generations to come. For more information\, click here.
URL:https://www.babstcalland.com/event/2023-summer-swing-golf-classic/
LOCATION:St. Clair Country Club\, 2300 Old Washington Rd. \, Pittsburgh\, PA\, 15241\, United States
CATEGORIES:Charity,Networking Event
END:VEVENT
BEGIN:VEVENT
DTSTART;TZID=America/New_York:20230728T073000
DTEND;TZID=America/New_York:20230728T140000
DTSTAMP:20260423T065727
CREATED:20230629T183119Z
LAST-MODIFIED:20230629T183119Z
UID:42764-1690529400-1690552800@www.babstcalland.com
SUMMARY:United Way of Washington County's 14th Annual Campaign Kickoff Golf Outing
DESCRIPTION:Babst Calland joins the United Way of Washington County for its 14th Annual Campaign Kickoff Golf Outing on Friday\, July 28\, 2023. Proceeds from this Outing benefit United Way’s Community Impact Fund. For more information\, click here.
URL:https://www.babstcalland.com/event/united-way-of-washington-countys-14th-annual-campaign-kickoff-golf-outing/
LOCATION:Lone Pine Country Club\, 2755 Park Avenue\, Washington\, PA\, 15301\, United States
CATEGORIES:Charity,Networking Event
END:VEVENT
END:VCALENDAR