BEGIN:VCALENDAR
VERSION:2.0
PRODID:-//Babst Calland - Attorneys at Law - ECPv6.2.8.1//NONSGML v1.0//EN
CALSCALE:GREGORIAN
METHOD:PUBLISH
X-ORIGINAL-URL:https://www.babstcalland.com

REFRESH-INTERVAL;VALUE=DURATION:PT1H
X-Robots-Tag:noindex
X-PUBLISHED-TTL:PT1H
BEGIN:VTIMEZONE
TZID:America/New_York
BEGIN:DAYLIGHT
TZOFFSETFROM:-0500
TZOFFSETTO:-0400
TZNAME:EDT
DTSTART:20240310T070000
END:DAYLIGHT
BEGIN:STANDARD
TZOFFSETFROM:-0400
TZOFFSETTO:-0500
TZNAME:EST
DTSTART:20241103T060000
END:STANDARD
END:VTIMEZONE
BEGIN:VEVENT
DTSTART;TZID=America/New_York:20240802T090000
DTEND;TZID=America/New_York:20240802T170000
DTSTAMP:20260424T042931
CREATED:20240508T195155Z
LAST-MODIFIED:20240508T195155Z
UID:47075-1722589200-1722618000@www.babstcalland.com
SUMMARY:2024 Bricks & Sticks Golf Classic
DESCRIPTION:Babst Calland joins Habitat for Humanity of Greater Centre County for its Bricks and Sticks Golf Classic on Friday\, August 2\, 2024. For more information\, click here.
URL:https://www.babstcalland.com/event/2024-bricks-sticks-golf-classic/
LOCATION:Penn State Golf Courses\, 1523 West College Ave. \, State College \, PA\, 16801\, United States
CATEGORIES:Charity,Networking Event
END:VEVENT
BEGIN:VEVENT
DTSTART;TZID=America/New_York:20240817T183000
DTEND;TZID=America/New_York:20240817T220000
DTSTAMP:20260424T042931
CREATED:20240529T174014Z
LAST-MODIFIED:20240529T174014Z
UID:47269-1723919400-1723932000@www.babstcalland.com
SUMMARY:2024 Twilight Picnic for the Parks
DESCRIPTION:Babst Calland joins the Allegheny County Parks Foundation for its Twilight Picnic for the Parks on Saturday\, August 17\, 2024. This signature fundraising event supports the Allegheny County Parks Foundation\, the nonprofit partner of the Allegheny County Parks. For more information\, click here.
URL:https://www.babstcalland.com/event/2024-twilight-picnic-for-the-parks/
LOCATION:Hartwood Acres Park\, 4000 Middle Rd. \, Allison Park\, PA\, 15101\, United States
CATEGORIES:Charity,Networking Event
END:VEVENT
BEGIN:VEVENT
DTSTART;TZID=America/New_York:20240824T180000
DTEND;TZID=America/New_York:20240824T220000
DTSTAMP:20260424T042931
CREATED:20240307T151007Z
LAST-MODIFIED:20240307T151007Z
UID:46225-1724522400-1724536800@www.babstcalland.com
SUMMARY:2024 Summer Night Soiree
DESCRIPTION:Babst Calland joins Generation West Virginia (GWV) for its Summer Night Soiree on Saturday\, August 24\, 2024. This event recognizes notable West Virginians who are embodying GWV’s mission of attracting\, retaining\, and advancing young people in the Mountain State. For more information\, click here.
URL:https://www.babstcalland.com/event/2024-summer-night-soiree/
LOCATION:J.Q. Dickinson Salt Works
CATEGORIES:Charity,Networking Event
END:VEVENT
END:VCALENDAR