BEGIN:VCALENDAR
VERSION:2.0
PRODID:-//Babst Calland - Attorneys at Law - ECPv6.2.8.1//NONSGML v1.0//EN
CALSCALE:GREGORIAN
METHOD:PUBLISH

X-ORIGINAL-URL:https://www.babstcalland.com

REFRESH-INTERVAL;VALUE=DURATION:PT1H
X-Robots-Tag:noindex
X-PUBLISHED-TTL:PT1H
BEGIN:VTIMEZONE
TZID:America/New_York
BEGIN:DAYLIGHT
TZOFFSETFROM:-0500
TZOFFSETTO:-0400
TZNAME:EDT
DTSTART:20250309T070000
END:DAYLIGHT
BEGIN:STANDARD
TZOFFSETFROM:-0400
TZOFFSETTO:-0500
TZNAME:EST
DTSTART:20251102T060000
END:STANDARD
END:VTIMEZONE
BEGIN:VEVENT
DTSTART;TZID=America/New_York:20250505T080000
DTEND;TZID=America/New_York:20250505T180000
DTSTAMP:20260419T151240
CREATED:20250311T131659Z
LAST-MODIFIED:20250311T131659Z
UID:50173-1746432000-1746468000@www.babstcalland.com
SUMMARY:American Cancer Society Golf Classic
DESCRIPTION:Babst Calland joins the American Cancer Society for its Pittsburgh Pro Am Golf Classic on Monday\, May 5\, 2025. Proceeds from this event support the Society’s mission to save lives\, celebrate lives\, and lead the fight for a world without cancer. For more information\, click here.
URL:https://www.babstcalland.com/event/american-cancer-society-golf-classic/
LOCATION:Chartiers Country Club
CATEGORIES:Charity
END:VEVENT
BEGIN:VEVENT
DTSTART;TZID=America/New_York:20250505T090000
DTEND;TZID=America/New_York:20250505T160000
DTSTAMP:20260419T151240
CREATED:20250429T173011Z
LAST-MODIFIED:20250429T173011Z
UID:51200-1746435600-1746460800@www.babstcalland.com
SUMMARY:Verland’s 13th Annual Shoot for Our Stars
DESCRIPTION:Babst Calland joins Verland for its 13th Annual Shoot for Our Stars event on Monday\, May 5\, 2025. Verland is a non-profit family of person-centric community homes and services supporting 200+ individuals with intellectual disabilities\, many of whom have multiple physical challenges. Proceeds from this event allow Verland to continue providing essential\, lifelong supports and services for the people they serve. For more information\, click here.
URL:https://www.babstcalland.com/event/verlands-13th-annual-shoot-for-our-stars/
LOCATION:Sporting Clays at Seven Springs\, 777 Water Wheel Dr.\, Seven Springs\, PA\, 15622\, United States
CATEGORIES:Charity,Networking Event
END:VEVENT
BEGIN:VEVENT
DTSTART;VALUE=DATE:20250517
DTEND;VALUE=DATE:20250518
DTSTAMP:20260419T151240
CREATED:20250513T132935Z
LAST-MODIFIED:20250513T132935Z
UID:51691-1747440000-1747526399@www.babstcalland.com
SUMMARY:2025 Charley West BBQ Fest
DESCRIPTION:Babst Calland joins the Bob Burdette Center for its Charley West BBQ Fest on Saturday\, May 17\, 2025. Proceeds from this event benefit the Bob Burdette Center afterschool program. For more information\, click here.
URL:https://www.babstcalland.com/event/2025-charley-west-bbq-fest/
CATEGORIES:Charity
END:VEVENT
BEGIN:VEVENT
DTSTART;TZID=America/New_York:20250517T160000
DTEND;TZID=America/New_York:20250517T190000
DTSTAMP:20260419T151240
CREATED:20250310T193607Z
LAST-MODIFIED:20250310T193607Z
UID:50162-1747497600-1747508400@www.babstcalland.com
SUMMARY:Barks and Brews 2025
DESCRIPTION:Babst Calland joins the Humane Animal Rescue of Pittsburgh for “Barks and Brews” on Saturday\, May 17\, 2025. For more information\, click here.
URL:https://www.babstcalland.com/event/barks-and-brews-2025/
LOCATION:Humane Animal Rescue of Pittsburgh\, 6926 Hamilton Avenue\, Pittsburgh\, PA\, United States
CATEGORIES:Charity,Networking Event
END:VEVENT
BEGIN:VEVENT
DTSTART;TZID=America/New_York:20250518T173000
DTEND;TZID=America/New_York:20250518T203000
DTSTAMP:20260419T151240
CREATED:20250325T125835Z
LAST-MODIFIED:20250325T125835Z
UID:50415-1747589400-1747600200@www.babstcalland.com
SUMMARY:The Friendship Circle of Pittsburgh’s Friends All Around Gala 2025
DESCRIPTION:Babst Calland joins The Friendship Circle at their annual Friends All Around gala on Sunday\, May 18\, 2025. The Friendship Circle is dedicated to integrating children and young adults with special needs more fully into the broader community. For more information\, click here. \n  \n 
URL:https://www.babstcalland.com/event/the-friendship-circle-of-pittsburghs-friends-all-around-gala-2025/
LOCATION:The Westin Pittsburgh\, 1000 Penn Avenue\, Pittsburgh\, 15222\, United States
CATEGORIES:Charity,Networking Event
END:VEVENT
BEGIN:VEVENT
DTSTART;TZID=America/New_York:20250519T090000
DTEND;TZID=America/New_York:20250519T160000
DTSTAMP:20260419T151240
CREATED:20250428T174131Z
LAST-MODIFIED:20250428T174131Z
UID:51172-1747645200-1747670400@www.babstcalland.com
SUMMARY:Veteran’s Charity Golf Classic
DESCRIPTION:Babst Calland joins the Mahoning Chapter of the Daughters of the American Revolution (DAR) and Mahoning Valley Sons of the American Revolution (SAR) for their annual Veteran’s Charity Golf Classic on Monday\, May 19\, 2025. Proceeds from this event help local veterans as well as those actively serving and honor those veterans who have passed. For more information\, click here.
URL:https://www.babstcalland.com/event/veterans-charity-golf-classic-2/
LOCATION:Youngstown Country Club
CATEGORIES:Charity,Networking Event
END:VEVENT
BEGIN:VEVENT
DTSTART;TZID=America/New_York:20250521T160000
DTEND;TZID=America/New_York:20250521T210000
DTSTAMP:20260419T151240
CREATED:20250512T144826Z
LAST-MODIFIED:20250512T144826Z
UID:51679-1747843200-1747861200@www.babstcalland.com
SUMMARY:Green Event: ACBA Environment and Energy Scholarship Fundraiser
DESCRIPTION:Babst Calland joins the Allegheny County Bar Association’s (ACBA) Environment and Energy Law Section for their “Green Event” on Wednesday\, May 21\, 2025.  During the event – which has the goal of raising money for law students aiming to practice environmental and/or energy law in Allegheny County after graduation –guests will enjoy stunning views of the Pittsburgh Botanic Garden while hearing remarks from Keith Kaiser\, the Garden’s Executive Director\, who will discuss the Garden’s mission\, its environmental history\, and ongoing sustainability initiatives. The event will also include the presentation of a scholarship check to this year’s recipient and the election of the Environment and Energy Law Section’s council and officers for the 2025–26 bar year. For more information\, click here.
URL:https://www.babstcalland.com/event/green-event-acba-environment-and-energy-scholarship-fundraiser-2/
LOCATION:Pittsburgh Botanic Garden
CATEGORIES:Charity,Networking Event
END:VEVENT
BEGIN:VEVENT
DTSTART;TZID=America/New_York:20250522T173000
DTEND;TZID=America/New_York:20250522T193000
DTSTAMP:20260419T151240
CREATED:20250408T143443Z
LAST-MODIFIED:20250408T143443Z
UID:50479-1747935000-1747942200@www.babstcalland.com
SUMMARY:YWCA Junior Board Spring Happy Hour
DESCRIPTION:Babst Calland joins the YWCA Greater Harrisburg for its Junior Board Spring Happy Hour on Thursday\, May 22\, 2025. The funds raised from this event will support the YWCA’s Child Development Programs\, including Summer Camp field trips to exciting local attractions. For more information\, click here.
URL:https://www.babstcalland.com/event/ywca-junior-board-spring-happy-hour/
LOCATION:Country Club of Harrisburg\, 401 Fishing Creek Valley Road\, Harrisburg\, PA\, 17112\, United States
CATEGORIES:Charity,Networking Event
END:VEVENT
BEGIN:VEVENT
DTSTART;VALUE=DATE:20250530
DTEND;VALUE=DATE:20250531
DTSTAMP:20260419T151240
CREATED:20250512T175524Z
LAST-MODIFIED:20250512T175524Z
UID:51682-1748563200-1748649599@www.babstcalland.com
SUMMARY:28th Annual Coaches vs. Cancer of Penn State Golf Tournament
DESCRIPTION:Babst Calland joins Coaches vs. Cancer of Penn State for its 28th Annual Golf Tournament on Friday\, May 30\, 2025. For more information\, click here.
URL:https://www.babstcalland.com/event/28th-annual-coaches-vs-cancer-of-penn-state-golf-tournament/
LOCATION:Penn State Golf Courses\, 1523 West College Ave. \, State College \, PA\, 16801\, United States
CATEGORIES:Charity,Networking Event
END:VEVENT
END:VCALENDAR