BEGIN:VCALENDAR
VERSION:2.0
PRODID:-//Babst Calland - Attorneys at Law - ECPv6.2.8.1//NONSGML v1.0//EN
CALSCALE:GREGORIAN
METHOD:PUBLISH
X-ORIGINAL-URL:https://www.babstcalland.com

REFRESH-INTERVAL;VALUE=DURATION:PT1H
X-Robots-Tag:noindex
X-PUBLISHED-TTL:PT1H
BEGIN:VTIMEZONE
TZID:America/New_York
BEGIN:DAYLIGHT
TZOFFSETFROM:-0500
TZOFFSETTO:-0400
TZNAME:EDT
DTSTART:20220313T070000
END:DAYLIGHT
BEGIN:STANDARD
TZOFFSETFROM:-0400
TZOFFSETTO:-0500
TZNAME:EST
DTSTART:20221106T060000
END:STANDARD
END:VTIMEZONE
BEGIN:VEVENT
DTSTART;TZID=America/New_York:20220725T103000
DTEND;TZID=America/New_York:20220725T170000
DTSTAMP:20260420T063710
CREATED:20220608T150316Z
LAST-MODIFIED:20221018T210526Z
UID:35553-1658745000-1658768400@www.babstcalland.com
SUMMARY:28th Annual ACBA Golf Tournament
DESCRIPTION:Babst Calland joins the Allegheny County Bar Association (ACBA) for its 28th Annual Golf Tournament on Monday\, July 25\, 2022. Proceeds from this event benefit the Allegheny County Bar Foundation and Neighborhood Legal Services. For more information\, click here.
URL:https://www.babstcalland.com/event/28th-annual-acba-golf-tournament/
LOCATION:Long Vue Club\, 410 Longue Vue Drive\, Long Vue\, PA\, 15147\, United States
CATEGORIES:Charity,Networking Event
END:VEVENT
END:VCALENDAR