BEGIN:VCALENDAR
VERSION:2.0
PRODID:-//Babst Calland - Attorneys at Law - ECPv6.2.8.1//NONSGML v1.0//EN
CALSCALE:GREGORIAN
METHOD:PUBLISH
X-ORIGINAL-URL:https://www.babstcalland.com

REFRESH-INTERVAL;VALUE=DURATION:PT1H
X-Robots-Tag:noindex
X-PUBLISHED-TTL:PT1H
BEGIN:VTIMEZONE
TZID:America/New_York
BEGIN:DAYLIGHT
TZOFFSETFROM:-0500
TZOFFSETTO:-0400
TZNAME:EDT
DTSTART:20220313T070000
END:DAYLIGHT
BEGIN:STANDARD
TZOFFSETFROM:-0400
TZOFFSETTO:-0500
TZNAME:EST
DTSTART:20221106T060000
END:STANDARD
END:VTIMEZONE
BEGIN:VEVENT
DTSTART;TZID=America/New_York:20220801T100000
DTEND;TZID=America/New_York:20220801T190000
DTSTAMP:20260420T205706
CREATED:20220407T141753Z
LAST-MODIFIED:20250429T173323Z
UID:34772-1659348000-1659380400@www.babstcalland.com
SUMMARY:40th Annual Verland Open
DESCRIPTION:Babst Calland supports Verland’s 40th Annual Open on Monday\, August 1\, 2022. Verland is a nonprofit family of person-centric community homes and supports serving people with intellectual disabilities\, many of whom have multiple physical challenges. In 37 community homes throughout the region\, and at the 10-home main campus in Sewickley\, Verland clients reside in settings that provide comfort\, safety\, and a dignified State-of-the-Heart lifestyle. Proceeds from this event allow Verland to continue providing essential\, lifelong supports and services for the people they serve. For more information\, click here.
URL:https://www.babstcalland.com/event/40th-annual-verland-open/
LOCATION:The Club at Nevillewood\, 1000 Nevillewood Drive\, Presto\, PA\, 15142\, United States
CATEGORIES:Charity,Networking Event
END:VEVENT
END:VCALENDAR