BEGIN:VCALENDAR
VERSION:2.0
PRODID:-//Babst Calland - Attorneys at Law - ECPv6.2.8.1//NONSGML v1.0//EN
CALSCALE:GREGORIAN
METHOD:PUBLISH

X-ORIGINAL-URL:https://www.babstcalland.com

REFRESH-INTERVAL;VALUE=DURATION:PT1H
X-Robots-Tag:noindex
X-PUBLISHED-TTL:PT1H
BEGIN:VTIMEZONE
TZID:America/New_York
BEGIN:DAYLIGHT
TZOFFSETFROM:-0500
TZOFFSETTO:-0400
TZNAME:EDT
DTSTART:20230312T070000
END:DAYLIGHT
BEGIN:STANDARD
TZOFFSETFROM:-0400
TZOFFSETTO:-0500
TZNAME:EST
DTSTART:20231105T060000
END:STANDARD
END:VTIMEZONE
BEGIN:VEVENT
DTSTART;TZID=America/New_York:20230309T180000
DTEND;TZID=America/New_York:20230309T210000
DTSTAMP:20260423T025309
CREATED:20230224T204217Z
LAST-MODIFIED:20230224T204646Z
UID:40398-1678384800-1678395600@www.babstcalland.com
SUMMARY:Fore Our Future Scholarship Fundraiser
DESCRIPTION:Babst Calland joins Crossroads Foundation and Extra Mile Foundation for their FORE OUR FUTURE Scholarship Fundraiser on Thursday\, March 9\, 2023. All sponsorships and proceeds benefit hundreds of students throughout Allegheny County. For more information\, click here.
URL:https://www.babstcalland.com/event/fore-our-future-scholarship-fundraiser/
LOCATION:TopGolf\, 400 Presto-Sygan Road\, Bridgeville\, PA\, 15017\, United States
CATEGORIES:Charity,Networking Event
END:VEVENT
END:VCALENDAR