BEGIN:VCALENDAR
VERSION:2.0
PRODID:-//Babst Calland - Attorneys at Law - ECPv6.2.8.1//NONSGML v1.0//EN
CALSCALE:GREGORIAN
METHOD:PUBLISH
X-ORIGINAL-URL:https://www.babstcalland.com

REFRESH-INTERVAL;VALUE=DURATION:PT1H
X-Robots-Tag:noindex
X-PUBLISHED-TTL:PT1H
BEGIN:VTIMEZONE
TZID:America/New_York
BEGIN:DAYLIGHT
TZOFFSETFROM:-0500
TZOFFSETTO:-0400
TZNAME:EDT
DTSTART:20230312T070000
END:DAYLIGHT
BEGIN:STANDARD
TZOFFSETFROM:-0400
TZOFFSETTO:-0500
TZNAME:EST
DTSTART:20231105T060000
END:STANDARD
END:VTIMEZONE
BEGIN:VEVENT
DTSTART;TZID=America/New_York:20230508T063000
DTEND;TZID=America/New_York:20230508T180000
DTSTAMP:20260423T040046
CREATED:20230117T140441Z
LAST-MODIFIED:20230117T140441Z
UID:39631-1683527400-1683568800@www.babstcalland.com
SUMMARY:Centre County Youth Service Bureau's On the Fly Tournament
DESCRIPTION:Babst Calland joins the Centre County Youth Service Bureau for its “On the Fly” tournament on Monday\, May 8\, 2023. All proceeds from this unique one-fly tournament benefit the Centre County Youth Service Bureau. For more information\, click here.
URL:https://www.babstcalland.com/event/centre-county-youth-service-bureaus-on-the-fly-tournament/
LOCATION:Wayne Harpster Farm
CATEGORIES:Charity
END:VEVENT
END:VCALENDAR