BEGIN:VCALENDAR
VERSION:2.0
PRODID:-//Babst Calland - Attorneys at Law - ECPv6.2.8.1//NONSGML v1.0//EN
CALSCALE:GREGORIAN
METHOD:PUBLISH

X-ORIGINAL-URL:https://www.babstcalland.com

REFRESH-INTERVAL;VALUE=DURATION:PT1H
X-Robots-Tag:noindex
X-PUBLISHED-TTL:PT1H
BEGIN:VTIMEZONE
TZID:America/New_York
BEGIN:DAYLIGHT
TZOFFSETFROM:-0500
TZOFFSETTO:-0400
TZNAME:EDT
DTSTART:20230312T070000
END:DAYLIGHT
BEGIN:STANDARD
TZOFFSETFROM:-0400
TZOFFSETTO:-0500
TZNAME:EST
DTSTART:20231105T060000
END:STANDARD
END:VTIMEZONE
BEGIN:VEVENT
DTSTART;TZID=America/New_York:20231013T190000
DTEND;TZID=America/New_York:20231013T220000
DTSTAMP:20260423T231647
CREATED:20230911T172049Z
LAST-MODIFIED:20230911T172049Z
UID:43431-1697223600-1697234400@www.babstcalland.com
SUMMARY:Every Child’s 2023 Grown Up Play Date
DESCRIPTION:Babst Calland joins Every Child\, Inc. for its Grown Up Play Date on Friday\, October 13\, 2023. Proceeds from this benefit support Every Child’s efforts to provide the safe\, nurturing home every child deserves.  For more information\, click here.
URL:https://www.babstcalland.com/event/every-childs-2023-grown-up-play-date/
LOCATION:The Matress Factory
CATEGORIES:Charity,Networking Event
END:VEVENT
END:VCALENDAR