BEGIN:VCALENDAR
VERSION:2.0
PRODID:-//Babst Calland - Attorneys at Law - ECPv6.2.8.1//NONSGML v1.0//EN
CALSCALE:GREGORIAN
METHOD:PUBLISH
X-ORIGINAL-URL:https://www.babstcalland.com

REFRESH-INTERVAL;VALUE=DURATION:PT1H
X-Robots-Tag:noindex
X-PUBLISHED-TTL:PT1H
BEGIN:VTIMEZONE
TZID:America/New_York
BEGIN:DAYLIGHT
TZOFFSETFROM:-0500
TZOFFSETTO:-0400
TZNAME:EDT
DTSTART:20230312T070000
END:DAYLIGHT
BEGIN:STANDARD
TZOFFSETFROM:-0400
TZOFFSETTO:-0500
TZNAME:EST
DTSTART:20231105T060000
END:STANDARD
END:VTIMEZONE
BEGIN:VEVENT
DTSTART;TZID=America/New_York:20231106T173000
DTEND;TZID=America/New_York:20231106T200000
DTSTAMP:20260423T203523
CREATED:20230306T161217Z
LAST-MODIFIED:20230809T133352Z
UID:40441-1699291800-1699300800@www.babstcalland.com
SUMMARY:2023 Pittsburgh Signature Chefs Auction
DESCRIPTION:Babst Calland joins March of Dimes for its Signature Chefs Auction on Monday\, November 6\, 2023. During this event Pittsburgh’s premier culinary establishments will prepare samples of their best dishes\, wines and beers\, while guests enjoy a silent and live auction all to give local babies a healthy start in life. For more information\,  click here.
URL:https://www.babstcalland.com/event/2023-pittsburgh-signature-chefs-auction/
LOCATION:The Westin Pittsburgh\, 1000 Penn Avenue\, PA\, 15222\, United States
CATEGORIES:Charity,Networking Event
END:VEVENT
END:VCALENDAR