BEGIN:VCALENDAR
VERSION:2.0
PRODID:-//Babst Calland - Attorneys at Law - ECPv6.2.8.1//NONSGML v1.0//EN
CALSCALE:GREGORIAN
METHOD:PUBLISH
X-ORIGINAL-URL:https://www.babstcalland.com

REFRESH-INTERVAL;VALUE=DURATION:PT1H
X-Robots-Tag:noindex
X-PUBLISHED-TTL:PT1H
BEGIN:VTIMEZONE
TZID:America/New_York
BEGIN:DAYLIGHT
TZOFFSETFROM:-0500
TZOFFSETTO:-0400
TZNAME:EDT
DTSTART:20230312T070000
END:DAYLIGHT
BEGIN:STANDARD
TZOFFSETFROM:-0400
TZOFFSETTO:-0500
TZNAME:EST
DTSTART:20231105T060000
END:STANDARD
END:VTIMEZONE
BEGIN:VEVENT
DTSTART;TZID=America/New_York:20231130T173000
DTEND;TZID=America/New_York:20231130T203000
DTSTAMP:20260423T203523
CREATED:20231110T181746Z
LAST-MODIFIED:20231110T181746Z
UID:43922-1701365400-1701376200@www.babstcalland.com
SUMMARY:Pursuit of Justice Purse Auction
DESCRIPTION:Babst Calland joins the YWCA Greater Harrisburg for its Pursuit of Justice Purse Auction on Thursday\, November 30\, 2023. Proceeds from this event benefit the YWCA’s Domestic Violence Legal Center. For more information\, click here.
URL:https://www.babstcalland.com/event/pursuit-of-justice-purse-auction/
LOCATION:West Shore Country Club
CATEGORIES:Charity
END:VEVENT
END:VCALENDAR