BEGIN:VCALENDAR
VERSION:2.0
PRODID:-//Babst Calland - Attorneys at Law - ECPv6.2.8.1//NONSGML v1.0//EN
CALSCALE:GREGORIAN
METHOD:PUBLISH
X-ORIGINAL-URL:https://www.babstcalland.com

REFRESH-INTERVAL;VALUE=DURATION:PT1H
X-Robots-Tag:noindex
X-PUBLISHED-TTL:PT1H
BEGIN:VTIMEZONE
TZID:America/New_York
BEGIN:DAYLIGHT
TZOFFSETFROM:-0500
TZOFFSETTO:-0400
TZNAME:EDT
DTSTART:20230312T070000
END:DAYLIGHT
BEGIN:STANDARD
TZOFFSETFROM:-0400
TZOFFSETTO:-0500
TZNAME:EST
DTSTART:20231105T060000
END:STANDARD
END:VTIMEZONE
BEGIN:VEVENT
DTSTART;TZID=America/New_York:20231202T100000
DTEND;TZID=America/New_York:20231202T120000
DTSTAMP:20260423T203524
CREATED:20231110T143352Z
LAST-MODIFIED:20231110T143352Z
UID:43915-1701511200-1701518400@www.babstcalland.com
SUMMARY:2023 Polar Bear Plunge
DESCRIPTION:Babst Calland joins the YMCA of Centre County for their annual Polar Bear Plunge on Saturday\, December 2\, 2023. For more information\, click here.
URL:https://www.babstcalland.com/event/2023-polar-bear-plunge/
LOCATION:Black Moshannon State Park
CATEGORIES:Charity
END:VEVENT
END:VCALENDAR