BEGIN:VCALENDAR
VERSION:2.0
PRODID:-//Babst Calland - Attorneys at Law - ECPv6.2.8.1//NONSGML v1.0//EN
CALSCALE:GREGORIAN
METHOD:PUBLISH

X-ORIGINAL-URL:https://www.babstcalland.com

REFRESH-INTERVAL;VALUE=DURATION:PT1H
X-Robots-Tag:noindex
X-PUBLISHED-TTL:PT1H
BEGIN:VTIMEZONE
TZID:UTC
BEGIN:STANDARD
TZOFFSETFROM:+0000
TZOFFSETTO:+0000
TZNAME:UTC
DTSTART:20160101T000000
END:STANDARD
END:VTIMEZONE
BEGIN:VEVENT
DTSTART;TZID=UTC:20161102T080000
DTEND;TZID=UTC:20161103T120000
DTSTAMP:20260423T171329
CREATED:20160714T010229Z
LAST-MODIFIED:20221127T141257Z
UID:17122-1478073600-1478174400@www.babstcalland.com
SUMMARY:Shale 101 Unplugged: Learn the Facts About Upstream\, Midstream\, and Downstream
DESCRIPTION:The Marcellus Shale Coalition is offering a two-day Shale 101 seminar on November 2 – 3 at the Pittsburgh Airport Marriott. This seminar is being offered to all oil and gas industry stakeholders\, state\, county and local officials\, and individuals interested in learning about unconventional shale and natural gas development in Pennsylvania and the surrounding areas. The development of natural gas from unconventional shale in Pennsylvania has created a huge opportunity for growth and sustainability for the region across a variety of industry sectors. During this seminar\, industry experts will educate attendees on the upstream\, midstream\, and downstream segments of the natural gas industry. \nUpstream: Understanding Laws and Regulations\nJean Mosites \nBabst Calland Attorney Jean M. Mosites will present a comprehensive overview of the existing federal\, state and local laws and regulations that govern all aspects of the oil and gas industry\, as well as permit and reporting requirements on November 2\, 2016. \n\n\n  \n  \n  \nMidstream: Understanding Laws and Regulations\nKeith Coyle \nBabst Calland Attorney Keith J. Coyle will also present on November 2\, 2016. Similar to upstream activities\, the midstream sector of the industry is heavily regulated. Obtain a comprehensive overview of the numerous federal\, state and local laws and regulations\, as well as permit and reporting requirements. \nFor more information about the event\, click here. To register\, click here.  \n 
URL:https://www.babstcalland.com/event/shale-101-unplugged-learn-facts-upstream-midstream-downstream/
LOCATION:SC
CATEGORIES:Conferences,Past Events,Presentations
END:VEVENT
BEGIN:VEVENT
DTSTART;VALUE=DATE:20161109
DTEND;VALUE=DATE:20161112
DTSTAMP:20260423T171329
CREATED:20160909T182611Z
LAST-MODIFIED:20221018T205601Z
UID:17499-1478649600-1478908799@www.babstcalland.com
SUMMARY:IPAA Annual Meeting
DESCRIPTION:Join us at IPAA’s 87th Annual Meeting to hear an impressive line-up of experts discuss the current state of the industry and assess the impact politics will have on America’s oil and natural gas industry. \nFor more information click here.
URL:https://www.babstcalland.com/event/ipaa-annual-meeting/
LOCATION:The Cloister\, 100 Cloister Drive\, Sea Island\, GA\, 31561\, United States
CATEGORIES:Conferences,Past Events
END:VEVENT
BEGIN:VEVENT
DTSTART;VALUE=DATE:20161110
DTEND;VALUE=DATE:20161112
DTSTAMP:20260423T171329
CREATED:20161025T010737Z
LAST-MODIFIED:20221018T205600Z
UID:17734-1478736000-1478908799@www.babstcalland.com
SUMMARY:WVONGA Embracing Energy Conference
DESCRIPTION:Brianne K. Kurdock \nShareholder\, Brianne Kurdock will be presenting on Pipelines & FERC at the West Virginia Oil & Natural Gas Association’s (WVONGA) 3rd Annual Embracing Energy Conference for Women to take place in Charleston\, W. Va. on November 10-11\, 2016. \n  \n  \n 
URL:https://www.babstcalland.com/event/embracing-energy-a-conference-for-women/
LOCATION:Columbia Gas Transmission\, 1700 MacCorkle Ave. SE\, Charleston\, WV\, 25314\, United States
CATEGORIES:Conferences,Past Events,Presentations
END:VEVENT
BEGIN:VEVENT
DTSTART;VALUE=DATE:20161118
DTEND;VALUE=DATE:20161120
DTSTAMP:20260423T171329
CREATED:20160916T182658Z
LAST-MODIFIED:20221018T205600Z
UID:17240-1479427200-1479599999@www.babstcalland.com
SUMMARY:WV Shale Gas Law Seminar 2016
DESCRIPTION:Shareholder Christopher B. Power will be presenting at the West Virginia CLE Annual Shale Gas Law Seminar on November 18-19\, 2016. For more information or to register\, click here. \n 
URL:https://www.babstcalland.com/event/shale-gas-law-2016/
LOCATION:WVU College of Law\, 101 Law School Dr. \, Morgantown \, WV\, 26506\, United States
CATEGORIES:CLE,Conferences,Past Events,Seminars
END:VEVENT
END:VCALENDAR