BEGIN:VCALENDAR
VERSION:2.0
PRODID:-//Babst Calland - Attorneys at Law - ECPv6.2.8.1//NONSGML v1.0//EN
CALSCALE:GREGORIAN
METHOD:PUBLISH
X-ORIGINAL-URL:https://www.babstcalland.com

REFRESH-INTERVAL;VALUE=DURATION:PT1H
X-Robots-Tag:noindex
X-PUBLISHED-TTL:PT1H
BEGIN:VTIMEZONE
TZID:UTC
BEGIN:STANDARD
TZOFFSETFROM:+0000
TZOFFSETTO:+0000
TZNAME:UTC
DTSTART:20170101T000000
END:STANDARD
END:VTIMEZONE
BEGIN:VEVENT
DTSTART;TZID=UTC:20170131T103000
DTEND;TZID=UTC:20170201T133000
DTSTAMP:20260424T182517
CREATED:20170120T234505Z
LAST-MODIFIED:20221018T205650Z
UID:18039-1485858600-1485955800@www.babstcalland.com
SUMMARY:MSC Member Meeting
DESCRIPTION:Please join us at the Marcellus Shale Coalition Member Meeting\, January 31 – February 1\, 2017.  The MSC will have their traditional meeting format with a full slate of committee meetings along with member engagement opportunities. \nFor more information or to register\, click here. \n 
URL:https://www.babstcalland.com/event/msc-member-meeting-2/
LOCATION:Omni William Penn Hotel\, 530 William Penn Place\, Pittsburgh\, PA\, 15219\, United States
CATEGORIES:Conferences,Networking Event,Past Events
END:VEVENT
BEGIN:VEVENT
DTSTART;TZID=UTC:20170215T080000
DTEND;TZID=UTC:20170217T120000
DTSTAMP:20260424T182517
CREATED:20170118T000911Z
LAST-MODIFIED:20221018T205649Z
UID:18001-1487145600-1487332800@www.babstcalland.com
SUMMARY:NAPE Summit
DESCRIPTION:Join us at the annual NAPE summit at the George R. Brown Convention Center in Houston\, Texas\, February 15-17\, 2017. Held every February in Houston\, the annual NAPE Summit is a networking event that brings together all the players necessary to forge\, facilitate and close deals. In the upstream oil and gas business\, it is the largest and most successful event of its kind in the world. \nThis massive three-day event offers prospects\, producers and purchasers a unique chance to connect\, reconnect and make deals. For those who seek to be successful in the upstream oil and gas business\, the NAPE Summit is a “must attend” event that has the potential to open up a myriad of new and unexpected opportunities. \nIn addition to the 14.66 acres of exhibition space for deal making\, the event is broken out into sessions that bring together respected and renowned speakers\, vendors and attendees. \nClick here for more information or to register.
URL:https://www.babstcalland.com/event/annual-nape-summit/
LOCATION:George R. Brown Convention Center\, 1001 Avenida De Las Americas\, Houston\, TX\, 77010\, United States
CATEGORIES:Charity,Conferences,Networking Event,Past Events
END:VEVENT
BEGIN:VEVENT
DTSTART;TZID=UTC:20170222T073000
DTEND;TZID=UTC:20170223T164500
DTSTAMP:20260424T182517
CREATED:20160222T104531Z
LAST-MODIFIED:20221018T205648Z
UID:7770-1487748600-1487868300@www.babstcalland.com
SUMMARY:44th Annual WV Mining Symposium
DESCRIPTION:Join us at the WV Coal Association 44th Annual WV Mining Symposium\, February 22-23\, 2017. The symposium brings together coal-producing members\, associate member suppliers and experts\, national and state officials and elected representatives from across West Virginia.  \nAttorney Christopher B. Power will be presenting on the Status of Primacy under the federal Surface Mining Control and Reclamation Act of 1977 (SMCRA). Kip’s speech will include an overview of the statutory basis for delegating primary authority for implementing SMCRA to the states\, an update on recent primacy/OSM oversight issues\, and recommendations for improving the federal-state agency relationship under the SMCRA program. Click here for more information.
URL:https://www.babstcalland.com/event/wv-coal-mining-symposium/
LOCATION:Charleston Civic Center\, Charleston\, WV\, United States
CATEGORIES:Conferences,Networking Event,Past Events,Seminars
END:VEVENT
END:VCALENDAR