BEGIN:VCALENDAR
VERSION:2.0
PRODID:-//Babst Calland - Attorneys at Law - ECPv6.2.8.1//NONSGML v1.0//EN
CALSCALE:GREGORIAN
METHOD:PUBLISH
X-ORIGINAL-URL:https://www.babstcalland.com

REFRESH-INTERVAL;VALUE=DURATION:PT1H
X-Robots-Tag:noindex
X-PUBLISHED-TTL:PT1H
BEGIN:VTIMEZONE
TZID:UTC
BEGIN:STANDARD
TZOFFSETFROM:+0000
TZOFFSETTO:+0000
TZNAME:UTC
DTSTART:20170101T000000
END:STANDARD
END:VTIMEZONE
BEGIN:VEVENT
DTSTART;VALUE=DATE:20170501
DTEND;VALUE=DATE:20170503
DTSTAMP:20260425T142501
CREATED:20170217T221255Z
LAST-MODIFIED:20221127T144730Z
UID:18193-1493596800-1493769599@www.babstcalland.com
SUMMARY:Chemistry Council of New Jersey 33rd Annual Spring Conference
DESCRIPTION:Annual Spring Conference is a major New Jersey industry event that provides attendees\, exhibitors\, and sponsors the opportunity to interact in an intimate setting with executives from leading companies and promote your products and services.  Attendees learn about the latest developments affecting their business\, get updates on legislative and regulatory issues\, participate in seminars directly related to their businesses and interact with elected officials.  It is also an opportunity to visit with exhibitors to learn about new products and services available from various companies. \nBabst Calland attorney Donald Bluedorn was Special Environmental Counsel for Freedom Industries\, Inc. regarding the January 2014 MCHM release to the Elk River in Charleston\, W. Va.  He will share some of his experiences with the Freedom matter and other environmental crises\, and he will present a practical road map for navigating environmental crisis management issues. Offers 1 substantive PA CLE credit. \nClick here for more information.
URL:https://www.babstcalland.com/event/33rd-annual-spring-conference/
LOCATION:Stockton Seaview Hotel\, 401 S New York Rd. \, Galloway\, NJ\, 08205\, United States
CATEGORIES:Conferences,Presentations
END:VEVENT
BEGIN:VEVENT
DTSTART;VALUE=DATE:20170502
DTEND;VALUE=DATE:20170504
DTSTAMP:20260425T142501
CREATED:20170223T022615Z
LAST-MODIFIED:20221018T205644Z
UID:18231-1493683200-1493855999@www.babstcalland.com
SUMMARY:Marcellus & Manufacturing Development Conference 2017
DESCRIPTION:Join us at the Marcellus & Manufacturing Development Conference\, May 2-3\, 2017.
URL:https://www.babstcalland.com/event/marcellus-manufacturing-development-conference-2017/
LOCATION:Waterfront Place Hotel\, 2 Waterfront Pl. \, Morgantown\, WV\, 26501\, United States
CATEGORIES:Conferences,Networking Event
END:VEVENT
BEGIN:VEVENT
DTSTART;VALUE=DATE:20170504
DTEND;VALUE=DATE:20170505
DTSTAMP:20260425T142501
CREATED:20170419T183225Z
LAST-MODIFIED:20221018T205643Z
UID:18560-1493856000-1493942399@www.babstcalland.com
SUMMARY:2017 ACATO Convention
DESCRIPTION:Babst Calland joins the Allegheny County Association of Township Officials (ACATO) Convention on May 4\, 2017. This annual gathering marks another successful and productive year by the Association. Guest speakers educate local decision makers and community members on relevant topics for the coming year. \nClick here for more information. 
URL:https://www.babstcalland.com/event/2017-acato-convention/
LOCATION:Shannopin Country Club\, 1 Windmere Rd.\, Pittsburgh\, PA\, 15202\, United States
CATEGORIES:Conferences,Networking Event,Past Events
END:VEVENT
BEGIN:VEVENT
DTSTART;VALUE=DATE:20170515
DTEND;VALUE=DATE:20170518
DTSTAMP:20260425T142501
CREATED:20170503T174814Z
LAST-MODIFIED:20221018T205642Z
UID:19124-1494806400-1495065599@www.babstcalland.com
SUMMARY:WVONGA Spring Meeting
DESCRIPTION:Join us at the WVONGA Spring Meeting\, May 15-17\, 2017. The meeting will include presentations from industry leaders about the future of oil and gas in West Virginia\, legal and regulatory updates\, and news from the WVONGA committees. \nBabst Calland attorney Robert Stonestreet will be presenting Keeping Your Lease Alive: Held by Production/Operation on May 17 at 11:00 a.m.
URL:https://www.babstcalland.com/event/wvonga-spring-meeting-2/
LOCATION:Oglebay Resort & Conference Center\, 465 Lodge Drive\, Wheeling\, WV\, 26003\, United States
CATEGORIES:Conferences,Networking Event,Past Events,Presentations
END:VEVENT
BEGIN:VEVENT
DTSTART;VALUE=DATE:20170516
DTEND;VALUE=DATE:20170519
DTSTAMP:20260425T142502
CREATED:20170420T001759Z
LAST-MODIFIED:20221018T205642Z
UID:18629-1494892800-1495151999@www.babstcalland.com
SUMMARY:Association for Pennsylvania Municipal Management Annual Conference
DESCRIPTION:The Association for Pennsylvania Municipal Management (APMM) annual conference will be held May 16-18\, 2017. The conference gives attendees the opportunity to network with fellow managers and learn the latest in trends and skills. \n\nAttorney Steve Korbel will co-present “If I Had a Hammer: The Manager’s Role in Engaging Contractors for Building Projects.” This session will bring together a panel of experienced folks to discuss the process of finding and engaging a professional\, entering into an agreement and launching a project using the design/build format that involves an architect and construction manager.
URL:https://www.babstcalland.com/event/apmm-annual-conference/
LOCATION:Omni Bedford Springs\, 2138 Business 220\, Bedford\, PA\, 15522\, United States
CATEGORIES:Conferences,Networking Event,Presentations
END:VEVENT
BEGIN:VEVENT
DTSTART;VALUE=DATE:20170521
DTEND;VALUE=DATE:20170524
DTSTAMP:20260425T142502
CREATED:20170224T014644Z
LAST-MODIFIED:20221018T205641Z
UID:18241-1495324800-1495583999@www.babstcalland.com
SUMMARY:Energy & Mineral Law Foundation 38th Annual Institute
DESCRIPTION:Join us at the Energy & Mineral Law Foundation 38th Annual Institute in Colonial Williamsburg\, May 21-23\, 2017.
URL:https://www.babstcalland.com/event/emlf-38th-annual-institute/
LOCATION:Williamsburg Lodge\, 310 South England Street\, Colonial Williamsburg\, VA\, 23185\, United States
CATEGORIES:Conferences,Networking Event
END:VEVENT
BEGIN:VEVENT
DTSTART;TZID=UTC:20170524T074500
DTEND;TZID=UTC:20170524T163000
DTSTAMP:20260425T142502
CREATED:20170427T222252Z
LAST-MODIFIED:20221018T205641Z
UID:18967-1495611900-1495643400@www.babstcalland.com
SUMMARY:West Virginia Chamber of Commerce’s 2017 Energy and Environmental Conference
DESCRIPTION:Attorney Kip Power will be presenting at West Virginia Chamber of Commerce’s annual Environmental and Energy Conference on Wednesday\, May 24\, 2017. This conference is a comprehensive\, informative and practical seminar on the significant state\, regional and national issues that may affect operations and business activities in the state of West Virginia. This day-long event is well attended by professionals from almost every segment of the regulated and energy-production community.
URL:https://www.babstcalland.com/event/2017-energy-and-environmental-conference/
LOCATION:Charleston Marriott Town Center\, 200 Lee St. E\, Charleston\, WV\, 25301\, United States
CATEGORIES:Conferences,Networking Event,Presentations
END:VEVENT
BEGIN:VEVENT
DTSTART;VALUE=DATE:20170525
DTEND;VALUE=DATE:20170526
DTSTAMP:20260425T142502
CREATED:20170615T191856Z
LAST-MODIFIED:20221018T205641Z
UID:18973-1495670400-1495756799@www.babstcalland.com
SUMMARY:4th Appalachia YEP General Counsel Forum
DESCRIPTION:Babst Calland joins the Center for American and International Law’s Institute for Energy Law Young Energy Professionals Practice Committee at the 4th Appalachia YEP General Counsel Forum on Thursday\, May 25\, 2017. The IEL YEPs will host general counsel to share professional and career advice. This evening event is going to be of great interest to in-house counsel who want to hear more about the careers and business concerns of some of the most senior lawyers in industry\, and to attorneys in private practice who want to improve their ability to address the needs of their clients as effectively as possible. \nFor more information\, click here.
URL:https://www.babstcalland.com/event/4th-appalachia-yep-general-counsel-forum/
LOCATION:Omni William Penn Hotel\, 530 William Penn Place\, Pittsburgh\, PA\, 15219\, United States
CATEGORIES:Conferences,Networking Event
END:VEVENT
END:VCALENDAR