BEGIN:VCALENDAR
VERSION:2.0
PRODID:-//Babst Calland - Attorneys at Law - ECPv6.2.8.1//NONSGML v1.0//EN
CALSCALE:GREGORIAN
METHOD:PUBLISH
X-ORIGINAL-URL:https://www.babstcalland.com

REFRESH-INTERVAL;VALUE=DURATION:PT1H
X-Robots-Tag:noindex
X-PUBLISHED-TTL:PT1H
BEGIN:VTIMEZONE
TZID:America/New_York
BEGIN:DAYLIGHT
TZOFFSETFROM:-0500
TZOFFSETTO:-0400
TZNAME:EDT
DTSTART:20200308T070000
END:DAYLIGHT
BEGIN:STANDARD
TZOFFSETFROM:-0400
TZOFFSETTO:-0500
TZNAME:EST
DTSTART:20201101T060000
END:STANDARD
END:VTIMEZONE
BEGIN:VEVENT
DTSTART;TZID=America/New_York:20200929T100000
DTEND;TZID=America/New_York:20201001T124500
DTSTAMP:20260425T213041
CREATED:20200902T181154Z
LAST-MODIFIED:20221127T144922Z
UID:28139-1601373600-1601556300@www.babstcalland.com
SUMMARY:Shale Insight 2020
DESCRIPTION:Babst Calland joins the Marcellus Shale Coalition for Shale Insight 2020\, September 29-October 1\, 2020. Celebrating its 10th anniversary in a new virtual event format\, Shale Insight offers attendees\, exhibitors and sponsors unprecedented access to the insights of industry-leading CEOs\, high level elected and other public officials and expert thought leaders across the spectrum\, all of whom play a critical role in crafting the public policy and technical landscape that defines shale gas development around the world. Learn from insightful technical and public affairs sessions\, national keynote addresses\, and the most relevant topic discussions affecting the industry today to jump ahead of the competition and gain that inside edge directly from the industry’s most influential leaders and innovators. \nAttorneys Lisa Bruderly and Keith Coyle will be panelists for “Pipeline Development: Legal Challenges and Federal Permitting Issues.” Join leading legal and industry analysts for an insightful panel discussion focusing on the current legal challenges and federal permitting issues facing pipeline projects. Timely topics to be examined include the U.S. Supreme Court’s recent decision on pipeline crossings beneath the Appalachian Trail\, court challenges and proposed changes to U.S. Army Corps of Engineers’ Nationwide Permit 12 \, revisions to 401 water quality certification requirements and the proposed definition of “habitat” under the Endangered Species Act regulations. \nAttorneys Kevin Garber and Jean Mosites will be panelists for “Water and Waste Handling: Studies and Stories.” This session will discuss the trends in water and waste storage\, transport\, recycling and disposal practices across the Tri-state area. Join industry and legal analysts as they provide an overview of the latest state and federal regulatory developments\, and how those developments intersect with current industry pressures. Panelists also will discuss and provide expert analysis on the results of produced water studies by USEPA and the Marcellus Shale Coalition. \nLisa Bruderly \nKeith Coyle \nKevin Garber \nJean Mosites
URL:https://www.babstcalland.com/event/shale-insight-2020/
LOCATION:Webinar
CATEGORIES:CLE,Conferences,Webinars
END:VEVENT
BEGIN:VEVENT
DTSTART;TZID=America/New_York:20201013T100000
DTEND;TZID=America/New_York:20201017T120000
DTSTAMP:20260425T213041
CREATED:20200916T194733Z
LAST-MODIFIED:20221127T144922Z
UID:28191-1602583200-1602936000@www.babstcalland.com
SUMMARY:EMLF’s 41st Annual Institute & Fall Symposium
DESCRIPTION:Babst Calland joins the Energy & Mineral Law Foundation (EMLF) for its 41st Annual Institute & Fall Symposium\, October 13\,-17 2020. \nDon Bluedorn \nAttorney Donald Bluedorn will co-present “Ethics: Implicit Bias in the Law Firm Setting.” Implicit Bias refers to when we have attitudes toward people or associate stereotypes without our conscious knowledge based on factors such as race\, gender\, sexual orientation\, gender identity\, and age. This presentation will address how discrimination is viewed in the model ethical rules\, the ABA efforts to emphasize discrimination as professional misconduct\, the recent Bostock decision extending employment protections to LGBTQ persons\, and answer questions such as  how does implicit/unknown bias affect hiring and other personnel decisions? How do implicit biases become subjective factors that influence objective employee evaluation categories? (e.g. associates may be evaluated based on an objective standard of hours billed\, but how do partner biases influence the work they are given and projects they are involved in that then generate these hours?). What are best practices for addressing implicit bias in yourself and in the workplace? \nAttorneys Ben Clapp\, Julie Domike and Kevin Garber will co-present “Implications of Growing Climate Change Momentum for the Energy Industry.” Increased public concern about addressing climate change has resulted in a building momentum of political and public pressure to transition to a low-carbon economy.  This pressure has spurred novel litigation theories\, far-reaching legislative proposals\, shareholder activism\, corporate climate change policies and other business responses. This program will address: \n\nSome of the sources of this this pressure – lenders\, investors\, insurers\nKey U.S. legal decisions and ongoing litigation related to climate change\nProminent federal and state legislation (including recent developments the Regional Greenhouse Gas Initiative in the northeast states)\,\nHow corporations in the energy industry are reacting – corporate sustainability announcements and goals\, SEC filings\, restructuring and divestitures\n\nBen Clapp \nJulie Domike \nKevin Garber \n  \n  \n  \n  \n  \n  \nFor more information\, click here.
URL:https://www.babstcalland.com/event/emlfs-41st-annual-institute-fall-symposium/
LOCATION:Webinar
CATEGORIES:CLE,Conferences,Presentations,Webinars
END:VEVENT
BEGIN:VEVENT
DTSTART;VALUE=DATE:20201019
DTEND;VALUE=DATE:20201028
DTSTAMP:20260425T213041
CREATED:20200908T143607Z
LAST-MODIFIED:20221018T210347Z
UID:28159-1603065600-1603843199@www.babstcalland.com
SUMMARY:SEER's 28th Fall Conference
DESCRIPTION:Babst Calland joins the American Bar Association’s Section of Environment\, Energy and Resources (SEER) for its 28th Fall Conference\, October 19-27\, 2020. SEER’s Fall Conference is the premier forum for environmental\, energy\, and resources lawyers: a meeting place where practitioners can find the most current and sophisticated analyses of the complicated issues facing their practice. This year’s program will be held virtually and will offer the exceptional educational sessions\, networking\, keynote presentations\, and sponsor access the conference is known for. For more information\, click here.
URL:https://www.babstcalland.com/event/seers-28th-fall-conference/
LOCATION:Webinar
CATEGORIES:CLE,Conferences
END:VEVENT
BEGIN:VEVENT
DTSTART;TZID=America/New_York:20201028T080000
DTEND;TZID=America/New_York:20201029T123000
DTSTAMP:20260425T213041
CREATED:20200902T123136Z
LAST-MODIFIED:20221018T210347Z
UID:28130-1603872000-1603974600@www.babstcalland.com
SUMMARY:2020 Annual Environmental Conference
DESCRIPTION:Attorney Colleen Grace Donofrio will present “Surviving Investigations and Facility Inspections” during PA Chamber of Business and Industry’s 2020 Environmental Conference on Wednesday\, October 28\, 2020. It is critical that companies are adequately prepared for Environmental Protection Agency (EPA) and PA Department of Environmental Protection (DEP) inspections to avoid violations and compliance-related fines. Colleen will discuss: \n\nHow to prepare for an inspection if you receive an early notice\, what to do during the inspection\, and how to analyze results of the inspection.\nA company’s rights during an inspection with emphasis on unannounced inspections.\nBest practices to swiftly take corrective action to ensure compliance.
URL:https://www.babstcalland.com/event/2020-annual-environmental-conference/
LOCATION:Webinar
CATEGORIES:Conferences,Presentations,Webinars
END:VEVENT
END:VCALENDAR