BEGIN:VCALENDAR
VERSION:2.0
PRODID:-//Babst Calland - Attorneys at Law - ECPv6.2.8.1//NONSGML v1.0//EN
CALSCALE:GREGORIAN
METHOD:PUBLISH
X-ORIGINAL-URL:https://www.babstcalland.com

REFRESH-INTERVAL;VALUE=DURATION:PT1H
X-Robots-Tag:noindex
X-PUBLISHED-TTL:PT1H
BEGIN:VTIMEZONE
TZID:America/New_York
BEGIN:DAYLIGHT
TZOFFSETFROM:-0500
TZOFFSETTO:-0400
TZNAME:EDT
DTSTART:20220313T070000
END:DAYLIGHT
BEGIN:STANDARD
TZOFFSETFROM:-0400
TZOFFSETTO:-0500
TZNAME:EST
DTSTART:20221106T060000
END:STANDARD
END:VTIMEZONE
BEGIN:VEVENT
DTSTART;TZID=America/New_York:20220330T140000
DTEND;TZID=America/New_York:20220401T123000
DTSTAMP:20260420T062838
CREATED:20220224T144138Z
LAST-MODIFIED:20221125T150933Z
UID:34508-1648648800-1648816200@www.babstcalland.com
SUMMARY:Platts' Hydrogen Markets Americas Conference
DESCRIPTION:Babst Calland joins Platts for its Hydrogen Markets Americas Conference\, March 30-April 1\, 2022. Attorney Jim Curry will be a co-panelist for “DOE Support for Regional Hydrogen Hubs.” This panel will discuss: \n\nDOE funding and proposals\nWorking with regional hubs\nProgress in building out hydrogen infrastructure\nImplications for national hydrogen projects\nUpdates on some important regional hubs: Ohio Valley\, Los Angeles\, Houston\, & Wyoming\n\nFor more information\, click here.
URL:https://www.babstcalland.com/event/platts-hydrogen-markets-americas-conference/
LOCATION:InterContinental San Diego\, San Diego\, CA/Online
CATEGORIES:Conferences,Presentations
END:VEVENT
BEGIN:VEVENT
DTSTART;TZID=America/New_York:20220406T080000
DTEND;TZID=America/New_York:20220406T190000
DTSTAMP:20260420T062838
CREATED:20220215T142947Z
LAST-MODIFIED:20221127T144922Z
UID:34448-1649232000-1649271600@www.babstcalland.com
SUMMARY:2022 PIOGA Spring Meeting
DESCRIPTION:Attorneys Kevin Garber and Jean Mosites will co-present an “Environmental Year in Review and Outlook for 2022” during PIOGA’s Spring Meeting on Wednesday\, April 6\, 2022. For more information\, click here. \nKevin Garber \nJean Mosites
URL:https://www.babstcalland.com/event/2022-pioga-spring-meeting/
LOCATION:Rivers Casino
CATEGORIES:Conferences,Presentations
END:VEVENT
BEGIN:VEVENT
DTSTART;TZID=America/New_York:20220413T090000
DTEND;TZID=America/New_York:20220414T160000
DTSTAMP:20260420T062838
CREATED:20220113T194827Z
LAST-MODIFIED:20221101T124501Z
UID:33943-1649840400-1649952000@www.babstcalland.com
SUMMARY:PBI's 2022 Environmental Law Forum
DESCRIPTION:Babst Calland joins the Pennsylvania Bar Institute (PBI) for its 2022 Environmental Law Forum April 13-14\, 2022. For more information\, click here.
URL:https://www.babstcalland.com/event/pbis-2022-environmental-law-forum/
LOCATION:Hilton Harrisburg\, 1 N 2nd St.\, Harrisburg\, PA\, 17101\, United States
CATEGORIES:CLE,Conferences
END:VEVENT
BEGIN:VEVENT
DTSTART;TZID=America/New_York:20220420T080000
DTEND;TZID=America/New_York:20220421T150000
DTSTAMP:20260420T062838
CREATED:20220420T130651Z
LAST-MODIFIED:20221018T210439Z
UID:34851-1650441600-1650553200@www.babstcalland.com
SUMMARY:2022 Keystone Space Collaborative Inaugural Conference
DESCRIPTION:Attorney Justine Kasznica who is also the Board Chair of the Keystone Space Collaborative\, kicks off the inaugural Keystone Space Collaborative conference that is taking place April 20-21\, 2022 at the Carnegie Science Center in Pittsburgh\, PA. \nFor details on the event\, click here.
URL:https://www.babstcalland.com/event/2022-keystone-space-collaborative-inaugural-conference/
LOCATION:Carnegie Science Center\, 1 Allegheny Ave.\, Pittsburgh\, PA\, 15212\, United States
CATEGORIES:Conferences
END:VEVENT
BEGIN:VEVENT
DTSTART;TZID=America/New_York:20220427T180000
DTEND;TZID=America/New_York:20220428T180000
DTSTAMP:20260420T062838
CREATED:20220331T174847Z
LAST-MODIFIED:20221125T151632Z
UID:34725-1651082400-1651168800@www.babstcalland.com
SUMMARY:2022 AAPL & EMLF Joint Land Institute
DESCRIPTION:Attorney Nik Tysiak will present a “Case Law Update” during the AAPL & EMLF Joint Land Institute\, April 27-28\, 2022. This session will encompass land and leasing case law updates for Pennsylvania\, Ohio and West Virginia. For more information\, click here.
URL:https://www.babstcalland.com/event/2022-aapl-emlf-joint-land-institute/
LOCATION:Pittsburgh Airport Marriott
CATEGORIES:CLE,Conferences,Presentations
END:VEVENT
END:VCALENDAR