BEGIN:VCALENDAR
VERSION:2.0
PRODID:-//Babst Calland - Attorneys at Law - ECPv6.2.8.1//NONSGML v1.0//EN
CALSCALE:GREGORIAN
METHOD:PUBLISH

X-ORIGINAL-URL:https://www.babstcalland.com

REFRESH-INTERVAL;VALUE=DURATION:PT1H
X-Robots-Tag:noindex
X-PUBLISHED-TTL:PT1H
BEGIN:VTIMEZONE
TZID:America/New_York
BEGIN:DAYLIGHT
TZOFFSETFROM:-0500
TZOFFSETTO:-0400
TZNAME:EDT
DTSTART:20220313T070000
END:DAYLIGHT
BEGIN:STANDARD
TZOFFSETFROM:-0400
TZOFFSETTO:-0500
TZNAME:EST
DTSTART:20221106T060000
END:STANDARD
END:VTIMEZONE
BEGIN:VEVENT
DTSTART;TZID=America/New_York:20220731T100000
DTEND;TZID=America/New_York:20220802T133000
DTSTAMP:20260419T234218
CREATED:20220715T132019Z
LAST-MODIFIED:20221018T210525Z
UID:36501-1659261600-1659447000@www.babstcalland.com
SUMMARY:2022 West Virginia Aviation Conference
DESCRIPTION:Babst Calland joins the West Virginia Airport Managers Association for its annual West Virginia Aviation Conference\, July 31-August 2. For more information\, click here.
URL:https://www.babstcalland.com/event/2022-west-virginia-aviation-conference/
LOCATION:Stonewall Resort in Roanoke
CATEGORIES:Conferences,Networking Event
END:VEVENT
END:VCALENDAR