BEGIN:VCALENDAR
VERSION:2.0
PRODID:-//Babst Calland - Attorneys at Law - ECPv6.2.8.1//NONSGML v1.0//EN
CALSCALE:GREGORIAN
METHOD:PUBLISH
X-ORIGINAL-URL:https://www.babstcalland.com

REFRESH-INTERVAL;VALUE=DURATION:PT1H
X-Robots-Tag:noindex
X-PUBLISHED-TTL:PT1H
BEGIN:VTIMEZONE
TZID:America/New_York
BEGIN:DAYLIGHT
TZOFFSETFROM:-0500
TZOFFSETTO:-0400
TZNAME:EDT
DTSTART:20220313T070000
END:DAYLIGHT
BEGIN:STANDARD
TZOFFSETFROM:-0400
TZOFFSETTO:-0500
TZNAME:EST
DTSTART:20221106T060000
END:STANDARD
END:VTIMEZONE
BEGIN:VEVENT
DTSTART;TZID=America/New_York:20220804T110000
DTEND;TZID=America/New_York:20220806T110000
DTSTAMP:20260419T193723
CREATED:20220627T185926Z
LAST-MODIFIED:20221018T210525Z
UID:35952-1659610800-1659783600@www.babstcalland.com
SUMMARY:WV Coal Association's Annual Membership Meeting
DESCRIPTION:Babst Calland joins the West Virginia Coal Association for its Annual Membership Meeting\, August 4-6\, 2022. For more information\, click here.
URL:https://www.babstcalland.com/event/wv-coal-associations-annual-membership-meeting/
LOCATION:The Greenbrier\, 300 W Main St. \, White Sulphur Springs \, WV\, 24986\, United States
CATEGORIES:Conferences
END:VEVENT
END:VCALENDAR