BEGIN:VCALENDAR
VERSION:2.0
PRODID:-//Babst Calland - Attorneys at Law - ECPv6.2.8.1//NONSGML v1.0//EN
CALSCALE:GREGORIAN
METHOD:PUBLISH
X-ORIGINAL-URL:https://www.babstcalland.com

REFRESH-INTERVAL;VALUE=DURATION:PT1H
X-Robots-Tag:noindex
X-PUBLISHED-TTL:PT1H
BEGIN:VTIMEZONE
TZID:America/New_York
BEGIN:DAYLIGHT
TZOFFSETFROM:-0500
TZOFFSETTO:-0400
TZNAME:EDT
DTSTART:20220313T070000
END:DAYLIGHT
BEGIN:STANDARD
TZOFFSETFROM:-0400
TZOFFSETTO:-0500
TZNAME:EST
DTSTART:20221106T060000
END:STANDARD
END:VTIMEZONE
BEGIN:VEVENT
DTSTART;TZID=America/New_York:20220912T080000
DTEND;TZID=America/New_York:20220915T140000
DTSTAMP:20260423T184338
CREATED:20220825T182826Z
LAST-MODIFIED:20221018T210523Z
UID:37308-1662969600-1663250400@www.babstcalland.com
SUMMARY:2022 National Tanks Conference
DESCRIPTION:Babst Calland joins NEIWPCC for its National Tanks Conference\, September 12-15\, 2022. This Conference brings together hundreds of UST/LUST professionals\, including tank inspectors; cleanup specialists; state\, tribal\, and territorial employees; federal regulators; and industry representatives to network and learn about emerging issues\, policy\, equipment\, and many other topics. For more information\, click here.
URL:https://www.babstcalland.com/event/2022-national-tanks-conference/
LOCATION:Wyndham Grand Hotel Downtown\, 600 Commonwealth Place\, Pittsburgh\, PA\, 15222\, United States
CATEGORIES:Conferences,Networking Event
END:VEVENT
BEGIN:VEVENT
DTSTART;VALUE=DATE:20220913
DTEND;VALUE=DATE:20220915
DTSTAMP:20260423T184338
CREATED:20221101T122651Z
LAST-MODIFIED:20221101T122806Z
UID:38693-1663027200-1663199999@www.babstcalland.com
SUMMARY:2022 WV Brownfields Conference
DESCRIPTION:Attorney Matt Wood will be a co-panelist for “PFAS Forever Chemicals – What You Don’t Know Can Hurt You” during the 2022 WV Brownfields Conference on Wednesday\, September 14\, 2022. For more information\, click here.
URL:https://www.babstcalland.com/event/2022-wv-brownfields-conference/
LOCATION:SC
CATEGORIES:Conferences,Presentations
END:VEVENT
BEGIN:VEVENT
DTSTART;TZID=America/New_York:20220913T080000
DTEND;TZID=America/New_York:20220914T160000
DTSTAMP:20260423T184338
CREATED:20220902T133456Z
LAST-MODIFIED:20221125T145108Z
UID:37438-1663056000-1663171200@www.babstcalland.com
SUMMARY:2022 Northeast Sustainable Communities Workshop
DESCRIPTION:Babst Calland joins the Brownfield Coalition of the Northeast (BCONE) for its annual Northeast Sustainable Communities Workshop (NSCW)\, September 13-14\, 2022. NSCW takes a regional\, cross-industry approach to redevelopment that allows brownfield\, environmental\, and sustainability professionals to come together and get unique insights and perspectives on key regional issues\, up-to-date strategies and emerging solutions for more successful remediation\, resilience and sustainable projects. \nAttorney Mackenzie Moyer will be a co-panelist for the “PFAS at Brownfield Sites Session (3C).” For more information\, click here. \n 
URL:https://www.babstcalland.com/event/2022-northeast-sustainable-communities-workshop/
LOCATION:Hilton Stamford Hotel & Executive Meeting Center
CATEGORIES:Conferences,Presentations
END:VEVENT
END:VCALENDAR