BEGIN:VCALENDAR
VERSION:2.0
PRODID:-//Babst Calland - Attorneys at Law - ECPv6.2.8.1//NONSGML v1.0//EN
CALSCALE:GREGORIAN
METHOD:PUBLISH

X-ORIGINAL-URL:https://www.babstcalland.com

REFRESH-INTERVAL;VALUE=DURATION:PT1H
X-Robots-Tag:noindex
X-PUBLISHED-TTL:PT1H
BEGIN:VTIMEZONE
TZID:UTC
BEGIN:STANDARD
TZOFFSETFROM:+0000
TZOFFSETTO:+0000
TZNAME:UTC
DTSTART:20180101T000000
END:STANDARD
TZID:America/New_York
BEGIN:DAYLIGHT
TZOFFSETFROM:-0500
TZOFFSETTO:-0400
TZNAME:EDT
DTSTART:20190310T070000
END:DAYLIGHT
BEGIN:STANDARD
TZOFFSETFROM:-0400
TZOFFSETTO:-0500
TZNAME:EST
DTSTART:20191103T060000
END:STANDARD
END:VTIMEZONE
BEGIN:VEVENT
DTSTART;TZID=UTC:20180507T090000
DTEND;TZID=UTC:20180508T180000
DTSTAMP:20260425T082109
CREATED:20180413T172840Z
LAST-MODIFIED:20230517T124912Z
UID:21173-1525683600-1525802400@www.babstcalland.com
SUMMARY:2018 EBA Annual Meeting & Conference
DESCRIPTION:Babst Calland joins the Energy Bar Association (EBA) for its Annual Meeting & Conference\, May 7-8\, 2018. This event provides two full days of discussions focused on the legal issues related to all aspects of energy law. Attendees will include attorneys\, non-attorney professionals\, and students active in all areas of energy law\, including antitrust\, international energy transactions\, legislation and regulatory reform\, electric utility regulation\, alternative dispute resolution\, finance and transactions\, and environment and public lands at federal\, state\, and international levels. For more information\, click here.
URL:https://www.babstcalland.com/event/2018-eba-annual-meeting-conference/
LOCATION:Renaissance Hotel\, Washington\, DC\, 999 9th St. NW\, Washington\, DC\, 20001\, United States
CATEGORIES:CLE,Conferences
END:VEVENT
BEGIN:VEVENT
DTSTART;TZID=UTC:20180509T070000
DTEND;TZID=UTC:20180510T173000
DTSTAMP:20260425T082109
CREATED:20180410T223852Z
LAST-MODIFIED:20221018T205819Z
UID:18445-1525849200-1525973400@www.babstcalland.com
SUMMARY:NCDMM's 2018 Annual Summit
DESCRIPTION:Babst Calland joins the National Center for Defense Manufacturing and Machining (NCDMM) for its Annual Summit\, May 9-10\, 2018. Summit is NCDMM’s premier annual event for encouraging collaboration and partnerships among manufacturers\, government\, industry\, and academia to advance manufacturing technologies. For more information\, click here.
URL:https://www.babstcalland.com/event/ncdmm-2018-annual-summit/
LOCATION:Chestnut Ridge Golf Resort & Conference Center\, 132 Pine Ridge Road\, Blairsville\, PA\, 15717\, United States
CATEGORIES:Conferences,Networking Event
END:VEVENT
BEGIN:VEVENT
DTSTART;VALUE=DATE:20180516
DTEND;VALUE=DATE:20180519
DTSTAMP:20260425T082109
CREATED:20180413T173332Z
LAST-MODIFIED:20221018T205819Z
UID:21178-1526428800-1526687999@www.babstcalland.com
SUMMARY:Defense Trial Counsel of West Virginia's 36th Annual Meeting
DESCRIPTION:Babst Calland joins the Defense Trial Counsel of West Virginia for its 36th Annual Meeting\, May 16-18\, 2018. For more information\, click here.
URL:https://www.babstcalland.com/event/defense-trial-counsel-of-west-virginia-36th-annual-meeting/
LOCATION:Stonewall Resort\, 940 Resort Drive\, Roanoke\, WV\, 26447\, United States
CATEGORIES:Conferences
END:VEVENT
BEGIN:VEVENT
DTSTART;TZID=UTC:20180518T082000
DTEND;TZID=UTC:20180518T170000
DTSTAMP:20260425T082109
CREATED:20180404T220658Z
LAST-MODIFIED:20221018T205818Z
UID:20955-1526631600-1526662800@www.babstcalland.com
SUMMARY:IEL's Energy Industry Environmental Law Conference
DESCRIPTION:Attorneys Joseph Reinhart and Meredith Odato Graham will be presenting on Going Global: Expanding the Scope of Environmental Review for the Energy Sector at the Institute of Energy Law’s National Energy Industry Environmental Law Conference on May 18\, 2018. Government agencies tasked with reviewing energy projects may take a harder look at anticipated greenhouse gas emissions following recent federal court decisions that call for a broader scope of environmental review. For example\, in a 2–1 ruling issued August 22\, 2017\, a panel of the U.S. Court of Appeals for the District of Columbia Circuit vacated a decision by the Federal Energy Regulatory Commission (FERC) to approve a major interstate pipeline project\, holding that FERC failed to adequately consider the greenhouse gas emissions that will result from burning the natural gas in downstream power plants. This presentation will review the evolving precedent and its implications for future energy project reviews. \nThis new and unique conference is designed for attorneys with a heavy environmental practice\, in particular involving energy-related matters\, as well as attorneys working for or representing energy industry clients who want more information on environmental law matters affecting the energy industry.  The conference features outstanding educational sessions by leading environmental and energy attorneys\, including in-house and private practice attorneys. \nFor more information\, click here.
URL:https://www.babstcalland.com/event/energy-industry-environmental-law-conference/
LOCATION:Hyatt Regency Houston/Galleria\, 2626 Sage Road\, Houston\, TX\, 77056\, United States
CATEGORIES:Conferences
END:VEVENT
BEGIN:VEVENT
DTSTART;TZID=UTC:20180519T180000
DTEND;TZID=UTC:20180519T210000
DTSTAMP:20260425T082109
CREATED:20180413T001050Z
LAST-MODIFIED:20221018T205818Z
UID:21193-1526752800-1526763600@www.babstcalland.com
SUMMARY:AC&WPATC 2018 Annual Spring Convention
DESCRIPTION:Babst Calland joins the Allegheny County & Western Pennsylvania Association of Township Commissioners (AC&WPATC) for its 2018 Annual Spring Convention on Saturday\, May 19\, 2018. The Annual Convention serves as a platform to inaugurate new officers and discuss important AC&WPATC business for the coming year. For more information\, click here.
URL:https://www.babstcalland.com/event/acwpatc-2018-annual-spring-convention/
LOCATION:Rivers Casino
CATEGORIES:Conferences,Networking Event
END:VEVENT
BEGIN:VEVENT
DTSTART;VALUE=DATE:20180523
DTEND;VALUE=DATE:20180524
DTSTAMP:20260425T082109
CREATED:20180510T233555Z
LAST-MODIFIED:20221018T205818Z
UID:21348-1527033600-1527119999@www.babstcalland.com
SUMMARY:West Virginia Chamber's 2018 Environmental and Energy Conference
DESCRIPTION:Attorney Robert Stonestreet will be presenting an “Endangered Species Update” at West Virginia Chamber’s 2018 Environmental and Energy Conference on Wednesday\, May 23\, 2018. This annual conference will review the latest regulations and policies in the field of environmental management. For more information\, click here.
URL:https://www.babstcalland.com/event/2018-environmental-and-energy-conference/
LOCATION:Charleston Marriott Town Center\, 200 Lee St. E\, Charleston\, WV\, 25301\, United States
CATEGORIES:Conferences,Presentations
END:VEVENT
BEGIN:VEVENT
DTSTART;TZID=UTC:20180524T173000
DTEND;TZID=UTC:20180524T201500
DTSTAMP:20260425T082109
CREATED:20180413T175648Z
LAST-MODIFIED:20221127T141518Z
UID:21182-1527183000-1527192900@www.babstcalland.com
SUMMARY:5th Appalachia Young Energy Professionals' General Counsel Forum
DESCRIPTION:Attorney Sean McGovern will co-chair the Institute for Energy Law’s 5th Appalachia Young Energy Professionals’ General Counsel Forum on Thursday\, May 24\, 2018. In-house counsel who want to hear more about the careers and business concerns of some of the most senior lawyers in industry and attorneys in private practice who want to improve their ability to address the needs of their clients as effectively as possible should attend this forum. The evening will begin with a reception\, followed by a panel discussion\, after which each general counsel will join a smaller group of young attorneys for dinner and a more intimate conversation. For more information\, click here.
URL:https://www.babstcalland.com/event/5th-appalachia-young-energy-professionals-general-counsel-forum/
LOCATION:Omni William Penn Hotel\, 530 William Penn Place\, Pittsburgh\, PA\, 15219\, United States
CATEGORIES:Conferences,Networking Event
END:VEVENT
BEGIN:VEVENT
DTSTART;TZID=UTC:20180617T133000
DTEND;TZID=UTC:20180619T124500
DTSTAMP:20260425T082109
CREATED:20180531T194113Z
LAST-MODIFIED:20221018T205815Z
UID:21351-1529242200-1529412300@www.babstcalland.com
SUMMARY:EMLF's 39th Annual Institute
DESCRIPTION:Attorney Tim Miller will be presenting on “Pitfalls Associated with Affiliate Transactions in the Gas Industry” at the Energy & Mineral Law Foundation’s (EMLF) 39th Annual Institute\, June 17-19\, 2018. The unbundling of the gas industry in the early 1990s\, coupled with spinoffs and business transactions between corporate affiliates\, can lead to a variety of legal problems\, ranging from royalty litigation\, claims of discriminatory conduct\, efforts to pierce the corporate veil and loss of certain common law and statutory defenses and immunities. This presentation will examine examples of various types of pitfalls and litigation related to afﬁliate transactions and operations\, and will offer guidance on ways to minimize the risk.
URL:https://www.babstcalland.com/event/energy-mineral-law-foundation-39th-annual-institute/
LOCATION:Renaissance Nashville Hotel
CATEGORIES:CLE,Conferences,Presentations
END:VEVENT
BEGIN:VEVENT
DTSTART;VALUE=DATE:20180618
DTEND;VALUE=DATE:20180620
DTSTAMP:20260425T082109
CREATED:20180413T185344Z
LAST-MODIFIED:20221127T141258Z
UID:21204-1529280000-1529452799@www.babstcalland.com
SUMMARY:Northeast U.S. Petrochemical Construction Conference
DESCRIPTION:Attorney Keith Coyle will be presenting on Pipeline Development in Support of Petrochemical Expansion in the Appalachian Basin at the Northeast U.S. Petrochemical Construction Conference\, June 18-19\, 2018. This event will highlight and address the most pressing industry challenges and developments that will shape the Northeast U.S. Petrochemical industry landscape for decades to come. For more information\, click here.
URL:https://www.babstcalland.com/event/northeast-u-s-petrochemical-construction-conference/
LOCATION:Westin Convention Center Pittsburgh\, 1000 Penn Ave. \, Pittsburgh\, PA\, 15222\, United States
CATEGORIES:Conferences,Presentations
END:VEVENT
BEGIN:VEVENT
DTSTART;TZID=UTC:20180619T080000
DTEND;TZID=UTC:20180620T153000
DTSTAMP:20260425T082109
CREATED:20180615T170533Z
LAST-MODIFIED:20221018T205815Z
UID:21532-1529395200-1529508600@www.babstcalland.com
SUMMARY:Automated Driving Systems Conference & Expo
DESCRIPTION:Babst Calland Director\, Mobility\, Automation and Safety Will Godfrey will be a panelist for “Smart Cities” at the Automated Driving Systems Conference & Expo on Wednesday\, June 20\, 2018. \nThe Automated Driving Systems Conference will discuss the latest advances that the industry have made in self-driving vehicles\, including software development verification and validation\, crash avoidance capability\, cyber security\, and predicting behavior of detected objects. \nFor more information\, click here.
URL:https://www.babstcalland.com/event/automated-driving-systems-conference-expo/
LOCATION:DoubleTree By Hilton McLeon Tysons\, 1960 Chain Bridge Road\, McLean\, VA\, 22102\, United States
CATEGORIES:Conferences,Presentations
END:VEVENT
BEGIN:VEVENT
DTSTART;TZID=UTC:20180620T080000
DTEND;TZID=UTC:20180623T121500
DTSTAMP:20260425T082109
CREATED:20180404T221428Z
LAST-MODIFIED:20221018T205814Z
UID:20913-1529481600-1529756100@www.babstcalland.com
SUMMARY:AAPL 2018 Annual Meeting
DESCRIPTION:Babst Calland joins AAPL for its Annual Meeting\, June 20-23\, 2018. For more information\, click here.
URL:https://www.babstcalland.com/event/aapl-2018-annual-meeting/
LOCATION:Sheraton Denver Downtown Hotel\, 1550 Court Pl.\, Denver\, CO\, 80202\, United States
CATEGORIES:Conferences
END:VEVENT
BEGIN:VEVENT
DTSTART;TZID=UTC:20180624T080000
DTEND;TZID=UTC:20180628T153000
DTSTAMP:20260425T082109
CREATED:20180413T184114Z
LAST-MODIFIED:20221127T144730Z
UID:21187-1529827200-1530199800@www.babstcalland.com
SUMMARY:A&WMA Annual Conference
DESCRIPTION:Don Bluedorn \nJustin Ackerman \nAttorneys Don Bluedorn and Justin Ackerman will be presenting on Issues Associated with Buying and Selling Environmentally Impacted Properties for Re-Development at the Air & Waste Management Association’s (A&WMA) Annual Conference\, June 24-28\, 2018. \n  \nFor more information\, click here.
URL:https://www.babstcalland.com/event/awma-annual-conference/
LOCATION:Connecticut Convention Center\, 100 Columbus Boulevard\, Hartford\, CT\, 06103\, United States
CATEGORIES:Conferences,Presentations
END:VEVENT
BEGIN:VEVENT
DTSTART;TZID=UTC:20180711T081500
DTEND;TZID=UTC:20180711T100000
DTSTAMP:20260425T082109
CREATED:20180724T171741Z
LAST-MODIFIED:20221018T205814Z
UID:21885-1531296900-1531303200@www.babstcalland.com
SUMMARY:The New Age of Innovation: Government's Role in Artificial Intelligence
DESCRIPTION:Babst Calland joins Politico for a dynamic conversation on the role of government and its implications for artificial intelligence (AI) growth in national public safety\, privacy and civil rights at “The New Age of Innovation: Government’s Role in Artificial Intelligence” on Wednesday\, July 11\, 2018. Artificial intelligence is accelerating rapidly — from social media bots to facial recognition technology to driverless vehicles. In May\, the White House launched the Select Committee on Artificial Intelligence and with the introduction of new AI legislation\, what will be the administration’s approach toward AI? What happens without government regulation? What is too much and what is too little? \nFor more information\, click here.
URL:https://www.babstcalland.com/event/the-new-age-of-innovation-governments-role-in-artificial-intelligence/
LOCATION:Washington Court Hotel\, 525 New Jersey Ave. NW\, Washington\, DC\, 20001\, United States
CATEGORIES:Conferences
END:VEVENT
BEGIN:VEVENT
DTSTART;TZID=UTC:20180722T180000
DTEND;TZID=UTC:20180723T170000
DTSTAMP:20260425T082109
CREATED:20180413T180441Z
LAST-MODIFIED:20221018T205813Z
UID:21234-1532282400-1532365200@www.babstcalland.com
SUMMARY:2018 AGA Legal Forum
DESCRIPTION:Babst Calland joins American Gas Association (AGA) for its 2018 Legal Forum\, July 22-23\, 2018. This event will feature presentations and panel discussions on topics of interest to natural gas industry attorneys.  The Forum also provides a unique opportunity for peer to peer discussions with other gas industry general counsel and attorneys.
URL:https://www.babstcalland.com/event/2018-aga-legal-forum/
LOCATION:InterContinental Chicago Magnificent Mile\, 505 Michigan Ave.\, Chicago\, IL\, 60611\, United States
CATEGORIES:Conferences,Networking Event
END:VEVENT
BEGIN:VEVENT
DTSTART;TZID=UTC:20180730T090000
DTEND;TZID=UTC:20180801T103000
DTSTAMP:20260425T082109
CREATED:20180724T002005Z
LAST-MODIFIED:20221127T144951Z
UID:21892-1532941200-1533119400@www.babstcalland.com
SUMMARY:SGA Operating Conference & Expo
DESCRIPTION:Join Babst Calland at the Southern Gas Association (SGA) for its Operating Conference & Expo\, July 30 – August 1\, 2018. \nAttorneys James Curry and Brianne Kurdock will be presenting on “All Things PHMSA: Rulemakings\, Enforcement Trends\, and Due Diligence Pointers” and attorney David White will be presenting on “Lessons Learned from Pipeline Construction Cases.”  For more information\, click here. \nJames Curry \nBrianne Kurdock \nDavid White
URL:https://www.babstcalland.com/event/sga-operating-conference-expo/
LOCATION:Tampa Convention Center\, 333 S Franklin St.\, Tampa\, FL\, 33602\, United States
CATEGORIES:Conferences,Networking Event
END:VEVENT
BEGIN:VEVENT
DTSTART;TZID=UTC:20180805T100000
DTEND;TZID=UTC:20180807T220000
DTSTAMP:20260425T082109
CREATED:20180719T191010Z
LAST-MODIFIED:20221018T205812Z
UID:19753-1533463200-1533679200@www.babstcalland.com
SUMMARY:IOGAWV Annual Summer Meeting
DESCRIPTION:Babst Calland joins the Independent Oil and Gas Association of West Virginia (IOGAWV) at its Annual Summer Meeting\, August 5-7\, 2018.
URL:https://www.babstcalland.com/event/iogawv-annual-summer-meeting/
LOCATION:The Greenbrier\, 300 W Main St. \, White Sulphur Springs \, WV\, 24986\, United States
CATEGORIES:Conferences,Networking Event
END:VEVENT
BEGIN:VEVENT
DTSTART;TZID=UTC:20180905T073000
DTEND;TZID=UTC:20180906T123000
DTSTAMP:20260425T082110
CREATED:20180719T174143Z
LAST-MODIFIED:20221018T205904Z
UID:19551-1536132600-1536237000@www.babstcalland.com
SUMMARY:9th Law of Shale Plays Conference
DESCRIPTION:Babst Calland joins the Institute for Energy Law and the Energy & Mineral Law Foundation (EMLF) at the 9th Law of Shale Plays Conference\, September 5-6\, 2018. The Law of Shale Plays Conference continues to bring together clients and legal professionals servicing all components of the energy industry for outstanding continuing legal education focused on issues affecting shale plays. The conference will provide timely legal updates on important litigation\, transactional and regulatory issues being experienced and addressed by energy attorneys. \nAttorney Katrina Bowers will be a panelist for “Litigation Update for the Shale Plays.” This panel will discuss how the oil and gas industry’s rapid growth over the past decade has required courts across the United States to consistently address novel legal issues impacting oil and gas development. \nFor more information\, click here.
URL:https://www.babstcalland.com/event/8th-law-of-shale-plays-conference/
LOCATION:Omni William Penn Hotel\, 530 William Penn Place\, Pittsburgh\, PA\, 15219\, United States
CATEGORIES:CLE,Conferences,Networking Event
END:VEVENT
BEGIN:VEVENT
DTSTART;VALUE=DATE:20181017
DTEND;VALUE=DATE:20181019
DTSTAMP:20260425T082110
CREATED:20181008T231710Z
LAST-MODIFIED:20251118T212405Z
UID:22335-1539734400-1539907199@www.babstcalland.com
SUMMARY:PIOGA Oktoberfest Conference and Annual Membership Meeting
DESCRIPTION:Babst Calland joins PIOGA for its Oktoberfest Conference and Annual Membership Meeting\, October 17-18\, 2018. The Conference will include presentations on key topics for the oil and gas industry\, exhibitors during the day\, and an Oktoberfest networking reception. Attorney Abigail Jones will be presenting a “2019 Regulatory Agenda and What to Expect.”
URL:https://www.babstcalland.com/event/pioga-oktoberfest/
LOCATION:Seven Springs Mountain Resort\, 777 Water Wheel Drive\, Seven Springs\, PA\, 15622\, United States
CATEGORIES:Conferences,Networking Event
END:VEVENT
BEGIN:VEVENT
DTSTART;TZID=UTC:20181017T070000
DTEND;TZID=UTC:20181018T120000
DTSTAMP:20260425T082110
CREATED:20181017T190224Z
LAST-MODIFIED:20221018T205901Z
UID:22424-1539759600-1539864000@www.babstcalland.com
SUMMARY:Kentucky Mineral Law Conference
DESCRIPTION:Join Babst Calland at the Energy & Mineral Law Foundation’s (EMLF) Kentucky Mineral Law Conference\, October 17-18\, 2018.
URL:https://www.babstcalland.com/event/kentucky-mineral-law-conference-2/
LOCATION:Hilton Lexington/Downtown\, 369 W Vine St. \, Lixington\, KY\, 40507\, United States
CATEGORIES:CLE,Conferences,Networking Event
END:VEVENT
BEGIN:VEVENT
DTSTART;TZID=UTC:20181017T120000
DTEND;TZID=UTC:20181020T130000
DTSTAMP:20260425T082110
CREATED:20180723T235641Z
LAST-MODIFIED:20221018T205901Z
UID:21759-1539777600-1540040400@www.babstcalland.com
SUMMARY:American Bar Association 26th Fall Conference
DESCRIPTION:Babst Calland joins the American Bar Association for its Section of Environment\, Energy\, and Resources’ Fall Conference\, October 17-20\, 2018. Session topics include:  tech giants’ environmental\, energy\, and natural resource footprints; non-federal efforts to address climate change; the current terrain of public land law; counseling clients before\, during\, and after natural disasters; the long road to Superfund reform; defining the future of offshore energy; and changing regulatory landscapes under the Clean Air Act and Clean Water Act.
URL:https://www.babstcalland.com/event/american-bar-association-26th-fall-conference/
LOCATION:Marriott Marquis San Diego Marina\, 333 W Harbor Drive\, San Diego\, CA\, 92101\, United States
CATEGORIES:CLE,Conferences,Networking Event
END:VEVENT
BEGIN:VEVENT
DTSTART;TZID=UTC:20181102T080000
DTEND;TZID=UTC:20181102T153000
DTSTAMP:20260425T082110
CREATED:20181017T173051Z
LAST-MODIFIED:20221018T205900Z
UID:21923-1541145600-1541172600@www.babstcalland.com
SUMMARY:Great Lakes Water Conference
DESCRIPTION:Babst Calland joins The University of Toledo for the 18th Annual Great Lakes Water Conference on Friday\, November 2\, 2018.  Historically\, water law has been the province primarily of lawyers and policymakers in the arid western United States. In recent years\, however\, lawmakers in the eastern and midwestern United States have come to recognize the critical role that water management plays in securing a healthy and vibrant society over the long term. The conference this year will address multiple issues that greatly impact the Great Lakes region. \nAttorney Gary Steinbauer will serve as a panelist for “More Hot Topics.”
URL:https://www.babstcalland.com/event/great-lakes-water-conference/
LOCATION:The University of Toledo College of Law\, Richard and Jane McQuade Law Auditorium
CATEGORIES:CLE,Conferences
END:VEVENT
BEGIN:VEVENT
DTSTART;TZID=UTC:20181109T083000
DTEND;TZID=UTC:20181109T160000
DTSTAMP:20260425T082110
CREATED:20181106T185521Z
LAST-MODIFIED:20221018T205859Z
UID:33465-1541752200-1541779200@www.babstcalland.com
SUMMARY:Deployment Partner Consortium Symposium
DESCRIPTION:On Friday\, November 9\, 2018\, attorney Johanna Jochum will serve as a panelist for “Government Panel:  New Technology Policy Challenges” at Traffic 21 Institute and Mobilitly21’s Deployment Partner Consortium Symposium. \nCarnegie Mellon University’s Traffic21 Institute was founded on the motto of Research\, Development and Deployment encouraging researchers to address real-world transportation needs through partnerships. Since 2012\, Carnegie Mellon University has maintained a Deployment Partner Consortium and they continue that tradition with their new US DOT funded National University Transportation Center\, Mobility21\, with the goal of improving the mobility of people and goods. There is no cost for membership in the consortium or participation in the symposium except an active interest in working with our students and faculty to deploy their research in the field. For more information\, click here.
URL:https://www.babstcalland.com/event/22511/
LOCATION:submitted_by
CATEGORIES:Conferences
END:VEVENT
BEGIN:VEVENT
DTSTART;TZID=UTC:20181115T073000
DTEND;TZID=UTC:20181115T120000
DTSTAMP:20260425T082110
CREATED:20181106T205628Z
LAST-MODIFIED:20231117T192822Z
UID:22523-1542267000-1542283200@www.babstcalland.com
SUMMARY:2020 Women on Boards' National Conversation on Board Diversity
DESCRIPTION:Babst Calland joins 2020 Women on Boards for their National Conversation on Board Diversity on Thursday\, November 15\, 2018. 2020 Women on Boards is a national campaign to increase the percentage of women on U.S. company boards to 20 percent or greater by the year 2020. The National Conversation on Board Diversity is hosted annually in more than 25 different cities around the country and focuses on bringing together thousands of C-Suite and Senior Level Executives to raise awareness and provide resources and tools to move this mission forward.
URL:https://www.babstcalland.com/event/2020-women-on-boards-national-conversation-on-board-diversity/
LOCATION:Westin Convention Center Pittsburgh\, 1000 Penn Ave. \, Pittsburgh\, PA\, 15222\, United States
CATEGORIES:Conferences,DEI,Networking Event
END:VEVENT
BEGIN:VEVENT
DTSTART;TZID=UTC:20181207T080000
DTEND;TZID=UTC:20181207T170000
DTSTAMP:20260425T082110
CREATED:20181017T195112Z
LAST-MODIFIED:20221018T205858Z
UID:33458-1544169600-1544202000@www.babstcalland.com
SUMMARY:31st Annual Bankruptcy Symposium
DESCRIPTION:Babst Calland joins the Allegheny County Bar Association’s Bankruptcy and Commercial Law Section for its 31st Annual Bankruptcy Symposium on Friday\, December 7\, 2018.  For more information\, click here.
URL:https://www.babstcalland.com/event/31st-annual-bankruptcy-symposium/
LOCATION:Westin Convention Center Pittsburgh\, 1000 Penn Ave. \, Pittsburgh\, PA\, 15222\, United States
CATEGORIES:CLE,Conferences
END:VEVENT
BEGIN:VEVENT
DTSTART;TZID=UTC:20181210T090000
DTEND;TZID=UTC:20181210T170000
DTSTAMP:20260425T082110
CREATED:20181210T230554Z
LAST-MODIFIED:20221018T205857Z
UID:22618-1544432400-1544461200@www.babstcalland.com
SUMMARY:WVONGA Embracing Energy: A Conference for Women
DESCRIPTION:Attorney Katrina Bowers will be presenting an oil and gas legal update at WVONGA’s 5th Annual Embracing Energy Conference on December 13\, 2018. This conference brings together women from all facets of the oil and natural gas industry to share their experiences\, wisdom and tricks of the trade. For more information\, click here.
URL:https://www.babstcalland.com/event/wvonga-embracing-energy-a-conference-for-women/
LOCATION:Yoga Power\, 601 Morris St. Suite 302\, Charlestson\, WV\, 25301\, United States
CATEGORIES:Conferences,Networking Event,Presentations
END:VEVENT
BEGIN:VEVENT
DTSTART;TZID=UTC:20190109T190000
DTEND;TZID=UTC:20190109T230000
DTSTAMP:20260425T082110
CREATED:20181228T012512Z
LAST-MODIFIED:20221018T205857Z
UID:22665-1547060400-1547074800@www.babstcalland.com
SUMMARY:Leadership West Virginia's 2019 State of the State Reception
DESCRIPTION:Babst Calland joins Leadership West Virginia on Wednesday\, January 9\, 2019\, following the State of the State address at the Charleston Town Center Marriott for its 12th Annual State of the State Reception. \nFor more information\, click here.
URL:https://www.babstcalland.com/event/leadership-west-virginias-2019-state-of-the-state-reception/
LOCATION:Charleston Marriott Town Center\, 200 Lee St. E\, Charleston\, WV\, 25301\, United States
CATEGORIES:Conferences,Networking Event
END:VEVENT
BEGIN:VEVENT
DTSTART;TZID=UTC:20190122T073000
DTEND;TZID=UTC:20190123T193000
DTSTAMP:20260425T082110
CREATED:20181228T011750Z
LAST-MODIFIED:20221018T205857Z
UID:22663-1548142200-1548271800@www.babstcalland.com
SUMMARY:2019 IOGAWV Winter Meeting
DESCRIPTION:Babst Calland joins IOGAWV for its 2019 Winter Meeting at the Charleston Marriott\, January 22-23\, 2019.
URL:https://www.babstcalland.com/event/2019-iogawv-winter-meeting/
LOCATION:Charleston Marriott Town Center\, 200 Lee St. E\, Charleston\, WV\, 25301\, United States
CATEGORIES:Conferences,Networking Event
END:VEVENT
BEGIN:VEVENT
DTSTART;TZID=UTC:20190213T080000
DTEND;TZID=UTC:20190215T130000
DTSTAMP:20260425T082110
CREATED:20181228T011026Z
LAST-MODIFIED:20221018T205855Z
UID:22660-1550044800-1550235600@www.babstcalland.com
SUMMARY:NAPE Summit 2019
DESCRIPTION:Join Babst Calland at NAPE Summit\, February 13-15\, 2019. NAPE is the oil and gas industry’s marketplace for the buying\, selling and trading of prospects and producing properties. NAPE is unique in that it brings together all industry disciplines; draws in decision-makers; focuses its participation on prospect generators; and hosts companies of all sizes\, from small independents to majors. \nFor more information\, click here.
URL:https://www.babstcalland.com/event/nape-summit-2019/
LOCATION:George R. Brown Convention Center\, 1001 Avenida De Las Americas\, Houston\, TX\, 77010\, United States
CATEGORIES:Conferences,Networking Event
END:VEVENT
BEGIN:VEVENT
DTSTART;VALUE=DATE:20190307
DTEND;VALUE=DATE:20190310
DTSTAMP:20260425T082110
CREATED:20190226T162259Z
LAST-MODIFIED:20221018T210229Z
UID:23209-1551916800-1552175999@www.babstcalland.com
SUMMARY:WVU College of Law's National Energy and Sustainability Moot Court Competition
DESCRIPTION:Babst Calland joins the West Virginia University College of Law for its National Energy & Sustainability Moot Court Competition\, March 7-9\, 2019. \nFor more information\, click here.
URL:https://www.babstcalland.com/event/wvu-college-of-laws-national-energy-and-sustainability-moot-court-competition/
LOCATION:WVU College of Law\, 101 Law School Dr. \, Morgantown \, WV\, 26506\, United States
CATEGORIES:Conferences
END:VEVENT
BEGIN:VEVENT
DTSTART;TZID=UTC:20190313T170000
DTEND;TZID=UTC:20190315T120000
DTSTAMP:20260425T082110
CREATED:20190201T152416Z
LAST-MODIFIED:20221018T210228Z
UID:22914-1552496400-1552651200@www.babstcalland.com
SUMMARY:DRI Seminar - Toxic Torts and Environmental Law
DESCRIPTION:Attorney Alana Fortna will co-present “Suing State and Local Governments over Laws and Permits” at DRI’s Toxic Torts and Environmental Law Seminar\, March 13-15\, 2019. Local and state environmental regulation often conflicts with federal and state law. This presentation will survey litigation strategies regarding the intersection of constitutional and environmental law. \nThis is the premier gathering for the defense bar\, focusing on litigation tactics\, science\, and regulatory updates. For more information\, click here.
URL:https://www.babstcalland.com/event/dri-seminar-toxic-torts-and-environmental-law/
LOCATION:Sheraton New Orleans Hotel\, 500 Canal St. \, New Orleans\, LA\, 70130\, United States
CATEGORIES:CLE,Conferences,Networking Event,Presentations
END:VEVENT
END:VCALENDAR