BEGIN:VCALENDAR
VERSION:2.0
PRODID:-//Babst Calland - Attorneys at Law - ECPv6.2.8.1//NONSGML v1.0//EN
CALSCALE:GREGORIAN
METHOD:PUBLISH

X-ORIGINAL-URL:https://www.babstcalland.com

REFRESH-INTERVAL;VALUE=DURATION:PT1H
X-Robots-Tag:noindex
X-PUBLISHED-TTL:PT1H
BEGIN:VTIMEZONE
TZID:America/New_York
BEGIN:DAYLIGHT
TZOFFSETFROM:-0500
TZOFFSETTO:-0400
TZNAME:EDT
DTSTART:20220313T070000
END:DAYLIGHT
BEGIN:STANDARD
TZOFFSETFROM:-0400
TZOFFSETTO:-0500
TZNAME:EST
DTSTART:20221106T060000
END:STANDARD
END:VTIMEZONE
BEGIN:VEVENT
DTSTART;VALUE=DATE:20220603
DTEND;VALUE=DATE:20220604
DTSTAMP:20260421T045631
CREATED:20220620T141619Z
LAST-MODIFIED:20221018T210529Z
UID:35831-1654214400-1654300799@www.babstcalland.com
SUMMARY:25th Annual Coaches vs. Cancer of Penn State Golf Tournament
DESCRIPTION:Babst Calland joins Coaches vs. Cancer of Penn State for its 25th Annual Golf Tournament on Friday\, June 3\, 2022. For more information\, click here.
URL:https://www.babstcalland.com/event/25th-annual-coaches-vs-cancer-of-penn-state-golf-tournament/
LOCATION:Penn State Golf Courses\, 1523 West College Ave. \, State College \, PA\, 16801\, United States
CATEGORIES:Charity,Networking Event
END:VEVENT
BEGIN:VEVENT
DTSTART;TZID=America/New_York:20220613T170000
DTEND;TZID=America/New_York:20220615T123000
DTSTAMP:20260421T045631
CREATED:20220511T141614Z
LAST-MODIFIED:20230123T190922Z
UID:34952-1655139600-1655296200@www.babstcalland.com
SUMMARY:DUG East 2022
DESCRIPTION:Babst Calland joins Hart Energy for its DUG East Conference\, June 13-15\, 2022. Attorneys Jean Mosites and Keith Coyle will be speakers for “Regulatory Impact:  Local and State Governments Loom Large.” This roundtable will take a look at the existing and pending legislation in both local and federal governments that are impacting the industry in the Marcellus and Utica. For more information\, click here. \nJean Mosites \nKeith Coyle \n 
URL:https://www.babstcalland.com/event/dug-east-2022/
LOCATION:David L. Lawrence Convention Center\, 1000 Fort Duquesne Blvd. \, Pittsburgh\, PA\, 15222\, United States
CATEGORIES:Conferences,Networking Event,Presentations
END:VEVENT
BEGIN:VEVENT
DTSTART;TZID=America/New_York:20220623T120000
DTEND;TZID=America/New_York:20220623T170000
DTSTAMP:20260421T045631
CREATED:20220609T191606Z
LAST-MODIFIED:20221018T210527Z
UID:35565-1655985600-1656003600@www.babstcalland.com
SUMMARY:HEARTH's Tees and Traps
DESCRIPTION:Babst Calland joins HEARTH for its Tees and Traps on Thursday\, June 23\, 2022. For more information\, click here.
URL:https://www.babstcalland.com/event/hearths-tees-and-traps/
LOCATION:Long Vue Club\, 410 Longue Vue Drive\, Long Vue\, PA\, 15147\, United States
CATEGORIES:Charity,Networking Event
END:VEVENT
BEGIN:VEVENT
DTSTART;TZID=America/New_York:20220629T173000
DTEND;TZID=America/New_York:20220629T193000
DTSTAMP:20260421T045631
CREATED:20220601T140728Z
LAST-MODIFIED:20221018T210527Z
UID:35392-1656523800-1656531000@www.babstcalland.com
SUMMARY:HSBD 10th Anniversary Celebration
DESCRIPTION:Babst Calland joins the Allegheny County Bar Association (ACBA) for its HSBD 10th Anniversary Celebration and Reception on Wednesday\, June 29\, 2022. The Homer S. Brown Law Association became a Division of the Allegheny County Bar Association in 2011. Last year the Homer S. Brown Division (HBSD) completed its 10th year as a Division of the ACBA. In recognition of those who worked hard to transition the Law Association to a Division in 2011 – and in recognition of all the accomplishments of the HSBD over the past 10 years – the Homer S. Brown Division will host a reception to celebrate the Division’s work over the past 10 years. All ACBA member are invited to celebrate this historic milestone. For more information\, click here.
URL:https://www.babstcalland.com/event/hsbd-10th-anniversary-celebration/
LOCATION:Hill House Association\, 1835 Centre Avenue\, Pittsburgh\, PA\, 15219\, United States
CATEGORIES:Networking Event
END:VEVENT
END:VCALENDAR