BEGIN:VCALENDAR
VERSION:2.0
PRODID:-//Babst Calland - Attorneys at Law - ECPv6.2.8.1//NONSGML v1.0//EN
CALSCALE:GREGORIAN
METHOD:PUBLISH

X-ORIGINAL-URL:https://www.babstcalland.com

REFRESH-INTERVAL;VALUE=DURATION:PT1H
X-Robots-Tag:noindex
X-PUBLISHED-TTL:PT1H
BEGIN:VTIMEZONE
TZID:America/New_York
BEGIN:DAYLIGHT
TZOFFSETFROM:-0500
TZOFFSETTO:-0400
TZNAME:EDT
DTSTART:20220313T070000
END:DAYLIGHT
BEGIN:STANDARD
TZOFFSETFROM:-0400
TZOFFSETTO:-0500
TZNAME:EST
DTSTART:20221106T060000
END:STANDARD
END:VTIMEZONE
BEGIN:VEVENT
DTSTART;TZID=America/New_York:20220831T110000
DTEND;TZID=America/New_York:20220902T103000
DTSTAMP:20260424T043919
CREATED:20221101T123428Z
LAST-MODIFIED:20221101T123612Z
UID:38696-1661943600-1662114600@www.babstcalland.com
SUMMARY:2022 Annual Meeting and Business Summit
DESCRIPTION:Babst Calland joins the West Virginia Chamber for its 2022 Annual Meeting and Business Summit\, August 31-September 2\, 2022. For more information\, click here.
URL:https://www.babstcalland.com/event/2022-annual-meeting-and-business-summit/
LOCATION:The Greenbrier\, 300 W Main St. \, White Sulphur Springs \, WV\, 24986\, United States
CATEGORIES:Conferences,Networking Event
END:VEVENT
BEGIN:VEVENT
DTSTART;VALUE=DATE:20220902
DTEND;VALUE=DATE:20220904
DTSTAMP:20260424T043919
CREATED:20220816T201238Z
LAST-MODIFIED:20221018T210524Z
UID:37172-1662076800-1662249599@www.babstcalland.com
SUMMARY:2022 Bellefonte Under the Lights
DESCRIPTION:Babst Calland joins Downtown Bellefonte\, Inc. for Bellefonte Under the Lights\, September 2-3\, 2022. For more information\, click here.
URL:https://www.babstcalland.com/event/2022-bellefonte-under-the-lights/
LOCATION:Downtown Bellefonte
CATEGORIES:Networking Event
END:VEVENT
BEGIN:VEVENT
DTSTART;TZID=America/New_York:20220907T170000
DTEND;TZID=America/New_York:20220908T183000
DTSTAMP:20260424T043919
CREATED:20220728T151750Z
LAST-MODIFIED:20221018T210523Z
UID:36963-1662570000-1662661800@www.babstcalland.com
SUMMARY:13th Appalachia Energy Law Conference
DESCRIPTION:Babst Calland joins the Institute for Energy Law and the Energy & Mineral Law Foundation (EMLF) at the 13th Appalachia Energy Law Conference (f/k/a Law of Shale Plays Conference)\, September 7-8\, 2022. Focused on legal issues related to the shale plays in the United States\, this conference brings together clients\, attorneys\, professional landmen\, and other professionals to learn and discuss important cases\, concepts\, and trends. In addition\, the conference features multiple networking opportunities with other attendees. \nAttorney Chelsea Heinz will be a co-panelist for “Royalty Roundup: A Survey of Developments in Appalachian Oil & Gas Royalty Litigation.” Exploration & Production companies operating in Appalachia face a patchwork and ever-changing landscape of oil and gas royalty precedent. Recently\, legal decisions out of Ohio\, Pennsylvania\, and West Virginia continue to transform the law being applied to varying lease royalty provisions. This panel provides an update on those developments that may inform development and operational decisions moving forward. \nFor more information\, click here. \n 
URL:https://www.babstcalland.com/event/13th-appalachia-energy-law-conference/
LOCATION:The Westin Pittsburgh\, 1000 Penn Avenue\, Pittsburgh\, 15222\, United States
CATEGORIES:CLE,Conferences,Networking Event,Presentations
END:VEVENT
BEGIN:VEVENT
DTSTART;TZID=America/New_York:20220912T080000
DTEND;TZID=America/New_York:20220915T140000
DTSTAMP:20260424T043919
CREATED:20220825T182826Z
LAST-MODIFIED:20221018T210523Z
UID:37308-1662969600-1663250400@www.babstcalland.com
SUMMARY:2022 National Tanks Conference
DESCRIPTION:Babst Calland joins NEIWPCC for its National Tanks Conference\, September 12-15\, 2022. This Conference brings together hundreds of UST/LUST professionals\, including tank inspectors; cleanup specialists; state\, tribal\, and territorial employees; federal regulators; and industry representatives to network and learn about emerging issues\, policy\, equipment\, and many other topics. For more information\, click here.
URL:https://www.babstcalland.com/event/2022-national-tanks-conference/
LOCATION:Wyndham Grand Hotel Downtown\, 600 Commonwealth Place\, Pittsburgh\, PA\, 15222\, United States
CATEGORIES:Conferences,Networking Event
END:VEVENT
BEGIN:VEVENT
DTSTART;TZID=America/New_York:20220912T090000
DTEND;TZID=America/New_York:20220912T160000
DTSTAMP:20260424T043919
CREATED:20220728T140848Z
LAST-MODIFIED:20221018T210523Z
UID:36955-1662973200-1662998400@www.babstcalland.com
SUMMARY:Veteran’s Charity Golf Classic
DESCRIPTION:Babst Calland joins the Mahoning Chapter of the Daughters of the American Revolution (DAR) and Mahoning Valley Sons of the American Revolution (SAR) for their annual Veteran’s Charity Golf Classic on Monday\, September 12\, 2022. Proceeds from this event help local veterans as well as those actively serving and honor those veterans who have passed. For more information\, click here.
URL:https://www.babstcalland.com/event/veterans-charity-golf-classic/
LOCATION:Youngstown Country Club
CATEGORIES:Charity,Networking Event
END:VEVENT
BEGIN:VEVENT
DTSTART;TZID=America/New_York:20220916T093000
DTEND;TZID=America/New_York:20220916T180000
DTSTAMP:20260424T043919
CREATED:20220719T174632Z
LAST-MODIFIED:20221018T210522Z
UID:36807-1663320600-1663351200@www.babstcalland.com
SUMMARY:2022 On the Field
DESCRIPTION:Babst Calland joins the Centre County Youth Service Bureau (CCYSB) for On the Field on Friday\, September 16\, 2022. All proceeds benefit the CCYSB\, a private nonprofit organization that has been strengthening children and families since 1968. Through an extensive array of programs working with parents of newborns up through older teens moving out on their own\, CCYSB works to keep kids safe and give every child the opportunity to reach his or her potential. For more information\, click here.
URL:https://www.babstcalland.com/event/2022-on-the-field/
LOCATION:Shenecoy Sportsmen
CATEGORIES:Charity,Networking Event
END:VEVENT
BEGIN:VEVENT
DTSTART;TZID=America/New_York:20220927T113000
DTEND;TZID=America/New_York:20220929T141500
DTSTAMP:20260424T043919
CREATED:20220729T180818Z
LAST-MODIFIED:20221127T144922Z
UID:36985-1664278200-1664460900@www.babstcalland.com
SUMMARY:Shale Insight 2022
DESCRIPTION:Babst Calland joins the Marcellus Shale Coalition for Shale Insight 2022\, September 27-29\, 2022. Shale Insight offers participants unprecedented interaction with industry-leading CEOs\, elected officials and thought leaders\, all of whom play a critical role in crafting the public policy and technical landscape that defines shale gas development around the world. Insightful technical and public affairs sessions\, national keynote addresses\, and networking receptions will provide attendees\, sponsors\, and exhibitors unique access to the industry’s most influential leaders and innovators. \nAttorneys Jim Curry and Kevin Garber will co-present “The Latest Hydrogen and CCS Developments and What They Mean for the Natural Gas Industry.” Hydrogen and carbon capture and sequestration have emerged as a potential solution to address unprecedented decarbonization demands from investors\, customers and governments. The U.S. Department of Energy will soon be reviewing applications and awarding grants for regional Hydrogen Hubs\, perhaps including one in Appalachia\, while private industry continues to actively explore the generation of hydrogen and its use for industrial\, transportation and other uses. Sequestering the carbon is a key component to the development and deployment of hydrogen as an energy source\, particularly in our region. This session will provide the latest developments on the status of IIJA review and funding of hydrogen hubs\, the generation of hydrogen and the market for off-takers\, CO2 and hydrogen pipeline regulation and permitting\, and primacy for UIC permitting of injection wells. \nAttorney Keith Coyle will be the moderator and Senior Director of Safety Chris Hoidal will be a co-panelist for “Pipeline Safety in the Biden Administration.” The Biden administration has issued several significant pipeline safety rules since coming to office in January 2021\, including new safety standards and reporting requirements for onshore gas gathering lines\, as well as new valve installation and rupture detection standards for gas\, hazardous liquid\, and carbon dioxide pipelines. The Administration is also developing new rulemaking proposals to establish enhanced leak detection and repair requirements for gas pipelines and address other congressional mandates. These new rulemakings\, along with the Administration’s focus on environmental issues\, have impacted the regulatory landscape and policy priorities of the Pipeline and Hazardous Materials Safety Administration (PHMSA)\, the federal agency charged with administering the nation’s pipeline safety program. This session will cover recent developments in pipeline safety and discuss the potential challenges and opportunities that operators can expect during the Biden administration. \nFor more information\, click here. \nJim Curry \nKevin Garber \nKeith Coyle \nChris Hoidal
URL:https://www.babstcalland.com/event/shale-insight-2022/
LOCATION:Bayfront Conference Center\, 1 Sassafras Pier\, Erie\, PA\, 16507
CATEGORIES:CLE,Conferences,Networking Event,Presentations
END:VEVENT
END:VCALENDAR