BEGIN:VCALENDAR
VERSION:2.0
PRODID:-//Babst Calland - Attorneys at Law - ECPv6.2.8.1//NONSGML v1.0//EN
CALSCALE:GREGORIAN
METHOD:PUBLISH
X-ORIGINAL-URL:https://www.babstcalland.com

REFRESH-INTERVAL;VALUE=DURATION:PT1H
X-Robots-Tag:noindex
X-PUBLISHED-TTL:PT1H
BEGIN:VTIMEZONE
TZID:America/New_York
BEGIN:DAYLIGHT
TZOFFSETFROM:-0500
TZOFFSETTO:-0400
TZNAME:EDT
DTSTART:20220313T070000
END:DAYLIGHT
BEGIN:STANDARD
TZOFFSETFROM:-0400
TZOFFSETTO:-0500
TZNAME:EST
DTSTART:20221106T060000
END:STANDARD
END:VTIMEZONE
BEGIN:VEVENT
DTSTART;TZID=America/New_York:20221007T190000
DTEND;TZID=America/New_York:20221007T230000
DTSTAMP:20260424T044045
CREATED:20210823T132439Z
LAST-MODIFIED:20221018T210521Z
UID:29947-1665169200-1665183600@www.babstcalland.com
SUMMARY:Every Child's Grown Up Play Date 2022
DESCRIPTION:Babst Calland joins Every Child\, Inc. for its Fifth Annual Grown Up Play Date on Friday\, October 7\, 2022. Proceeds from this benefit support Every Child’s efforts to provide the safe\, nurturing home every child deserves.  For more information\, click here.
URL:https://www.babstcalland.com/event/every-childs-grown-up-play-date-2021/
LOCATION:SC
CATEGORIES:Charity,Networking Event
END:VEVENT
BEGIN:VEVENT
DTSTART;TZID=America/New_York:20221010T090000
DTEND;TZID=America/New_York:20221010T140000
DTSTAMP:20260424T044045
CREATED:20220628T144149Z
LAST-MODIFIED:20250429T173223Z
UID:35996-1665392400-1665410400@www.babstcalland.com
SUMMARY:Verland's 10th Annual Shoot for Our Stars
DESCRIPTION:Babst Calland joins Verland for its 10th Annual Shoot for Our Stars event on Monday\, October 10\, 2022. Verland is a nonprofit family of person-centric community homes and supports serving people with Intellectual Disability\, many of whom have multiple physical challenges. In 37 community homes throughout the region\, and at the 10-home main campus in Sewickley\, Verland clients reside in settings that provide comfort\, safety\, and a dignified State-of-the-Heart lifestyle. Proceeds from this event allow Verland to continue providing essential\, lifelong supports and services for the people they serve. For more information\, click here.
URL:https://www.babstcalland.com/event/verlands-10th-annual-shoot-for-our-stars/
LOCATION:Sporting Clays at Seven Springs\, 777 Water Wheel Dr.\, Seven Springs\, PA\, 15622\, United States
CATEGORIES:Charity,Networking Event
END:VEVENT
BEGIN:VEVENT
DTSTART;TZID=America/New_York:20221027T080000
DTEND;TZID=America/New_York:20221027T151500
DTSTAMP:20260424T044045
CREATED:20220907T184708Z
LAST-MODIFIED:20220907T184939Z
UID:37522-1666857600-1666883700@www.babstcalland.com
SUMMARY:2022 Annual Environmental Conference
DESCRIPTION:Attorney Colleen Grace Donofrio will present “Your Survival Guide for Inspections and Compliance Visits” during the PA Chamber of Business and Industry’s 2022 Annual Environmental Conference. This presentation will be an informal\, interactive discussion of Best Management Practices to minimize potential enforcement\, including: \n\nPre-Arrival Tip;\nOn-Site Visit Management Consideration;\nRecommended Post-Visit Action; and\n*NEW* Spill Plan Coverage Considerations.\n\nFor more information\, click here.
URL:https://www.babstcalland.com/event/2022-annual-environmental-conference/
LOCATION:Eden Resort & Suites\, 222 Eden Rd.\, Lancaster\, PA\, 17601\, United States
CATEGORIES:Conferences,Networking Event,Presentations
END:VEVENT
END:VCALENDAR