BEGIN:VCALENDAR
VERSION:2.0
PRODID:-//Babst Calland - Attorneys at Law - ECPv6.2.8.1//NONSGML v1.0//EN
CALSCALE:GREGORIAN
METHOD:PUBLISH

X-ORIGINAL-URL:https://www.babstcalland.com

REFRESH-INTERVAL;VALUE=DURATION:PT1H
X-Robots-Tag:noindex
X-PUBLISHED-TTL:PT1H
BEGIN:VTIMEZONE
TZID:America/New_York
BEGIN:DAYLIGHT
TZOFFSETFROM:-0500
TZOFFSETTO:-0400
TZNAME:EDT
DTSTART:20230312T070000
END:DAYLIGHT
BEGIN:STANDARD
TZOFFSETFROM:-0400
TZOFFSETTO:-0500
TZNAME:EST
DTSTART:20231105T060000
END:STANDARD
END:VTIMEZONE
BEGIN:VEVENT
DTSTART;TZID=America/New_York:20230730T100000
DTEND;TZID=America/New_York:20230801T103000
DTSTAMP:20260425T111123
CREATED:20230623T135757Z
LAST-MODIFIED:20230623T135757Z
UID:42741-1690711200-1690885800@www.babstcalland.com
SUMMARY:2023 West Virginia Aviation Conference
DESCRIPTION:Babst Calland joins the West Virginia Airport Managers Association for its annual West Virginia Aviation Conference\, July 30-August 1\, 2023. For more information\, click here.
URL:https://www.babstcalland.com/event/2023-west-virginia-aviation-conference/
LOCATION:Canaan Valley Resort and Conference Center
CATEGORIES:Conferences,Networking Event
END:VEVENT
BEGIN:VEVENT
DTSTART;TZID=America/New_York:20230803T113000
DTEND;TZID=America/New_York:20230803T133000
DTSTAMP:20260425T111123
CREATED:20230713T152445Z
LAST-MODIFIED:20230713T152445Z
UID:42790-1691062200-1691069400@www.babstcalland.com
SUMMARY:MLBC's August Luncheon
DESCRIPTION:Attorney Nik Tysiak will give a presentation on Ohio updates and the WV Tax deed case during MLBC’s August Luncheon on Thursday\, August 3\, 2023. For more information\, click here.
URL:https://www.babstcalland.com/event/mlbcs-august-luncheon/
LOCATION:Bella Sera\, 414 Morganza Rd.\, Canonsburg\, PA\, 15317\, United States
CATEGORIES:Networking Event,Presentations
END:VEVENT
BEGIN:VEVENT
DTSTART;TZID=America/New_York:20230804T090000
DTEND;TZID=America/New_York:20230804T170000
DTSTAMP:20260425T111124
CREATED:20230710T192802Z
LAST-MODIFIED:20230710T192802Z
UID:42783-1691139600-1691168400@www.babstcalland.com
SUMMARY:2023 Bricks & Sticks Golf Classic
DESCRIPTION:Babst Calland joins Habitat for Humanity of Greater Centre County for its Bricks and Sticks Golf Classic on Friday\, August 4\, 2023. For more information\, click here.
URL:https://www.babstcalland.com/event/2023-bricks-sticks-golf-classic/
LOCATION:Penn State Golf Courses\, 1523 West College Ave. \, State College \, PA\, 16801\, United States
CATEGORIES:Charity,Networking Event
END:VEVENT
BEGIN:VEVENT
DTSTART;VALUE=DATE:20230810
DTEND;VALUE=DATE:20230813
DTSTAMP:20260425T111124
CREATED:20230622T135808Z
LAST-MODIFIED:20230622T135808Z
UID:42736-1691625600-1691884799@www.babstcalland.com
SUMMARY:WVCA Annual Membership Meeting
DESCRIPTION:Babst Calland joins the West Virginia Coal Association for its Annual Membership Meeting\, August 10-12\, 2023. For more information\, click here.
URL:https://www.babstcalland.com/event/wvca-annual-membership-meeting/
LOCATION:The Greenbrier\, 300 W Main St. \, White Sulphur Springs \, WV\, 24986\, United States
CATEGORIES:Conferences,Networking Event
END:VEVENT
BEGIN:VEVENT
DTSTART;TZID=America/New_York:20230813T100000
DTEND;TZID=America/New_York:20230815T220000
DTSTAMP:20260425T111124
CREATED:20230616T184446Z
LAST-MODIFIED:20230616T184545Z
UID:42685-1691920800-1692136800@www.babstcalland.com
SUMMARY:2023 GO-WV Summer Meeting
DESCRIPTION:Babst Calland joins GO-WV for its Summer Meeting\, August 13-15\, 2023. For more information\, click here.
URL:https://www.babstcalland.com/event/2023-go-wv-summer-meeting/
LOCATION:The Greenbrier\, 300 W Main St. \, White Sulphur Springs \, WV\, 24986\, United States
CATEGORIES:Conferences,Networking Event
END:VEVENT
BEGIN:VEVENT
DTSTART;TZID=America/New_York:20230814T100000
DTEND;TZID=America/New_York:20230814T193000
DTSTAMP:20260425T111124
CREATED:20230424T123355Z
LAST-MODIFIED:20230424T123355Z
UID:41188-1692007200-1692041400@www.babstcalland.com
SUMMARY:41st Annual Verland Open
DESCRIPTION:Babst Calland joins Verland for its 41st Annual Open on Monday\, August 14\, 2023. Verland is a nonprofit family of person-centered\, community homes and services supporting more than 200 individuals with intellectual disabilities\, many of whom have multiple physical challenges.  Proceeds from this event allow Verland to continue providing individualized\, innovative care and ongoing support for people in our community with complex physical and intellectual challenges. For more information\, click here.
URL:https://www.babstcalland.com/event/41st-annual-verland-open/
LOCATION:The Club at Nevillewood\, 1000 Nevillewood Drive\, Presto\, PA\, 15142\, United States
CATEGORIES:Charity,Networking Event
END:VEVENT
BEGIN:VEVENT
DTSTART;TZID=America/New_York:20230819T183000
DTEND;TZID=America/New_York:20230819T220000
DTSTAMP:20260425T111124
CREATED:20230620T151102Z
LAST-MODIFIED:20230620T151102Z
UID:42707-1692469800-1692482400@www.babstcalland.com
SUMMARY:2023 Twilight Picnic for the Parks
DESCRIPTION:Babst Calland joins the Allegheny County Parks Foundation for its Twilight Picnic for the Parks on Saturday\, August 19\, 2023. This signature fundraising event supports the Allegheny County Parks Foundation\, the nonprofit partner of the Allegheny County Parks. For more information\, click here.
URL:https://www.babstcalland.com/event/2023-twilight-picnic-for-the-parks/
LOCATION:Hartwood Acres Park\, 4000 Middle Rd. \, Allison Park\, PA\, 15101\, United States
CATEGORIES:Charity,Networking Event
END:VEVENT
BEGIN:VEVENT
DTSTART;TZID=America/New_York:20230821T080000
DTEND;TZID=America/New_York:20230821T200000
DTSTAMP:20260425T111124
CREATED:20230602T135714Z
LAST-MODIFIED:20240529T152846Z
UID:42256-1692604800-1692648000@www.babstcalland.com
SUMMARY:2023 ASA Annual Golf Outing
DESCRIPTION:Babst Calland joins the American Subcontractors Association (ASA) for its Annual Golf Outing on Monday\, August 21\, 2023. For more information\, click here.
URL:https://www.babstcalland.com/event/2023-asa-annual-golf-outing/
LOCATION:SC
CATEGORIES:Networking Event
END:VEVENT
BEGIN:VEVENT
DTSTART;TZID=America/New_York:20230826T180000
DTEND;TZID=America/New_York:20230826T220000
DTSTAMP:20260425T111124
CREATED:20230622T144418Z
LAST-MODIFIED:20230622T144801Z
UID:42738-1693072800-1693087200@www.babstcalland.com
SUMMARY:Summer Night Soiree
DESCRIPTION:Babst Calland joins Generation West Virginia (GWV) for its Summer Night Soiree on Saturday\, August 26\, 2023. This event recognizes notable West Virginians who are embodying GWV’s mission of attracting\, retaining\, and advancing young people in the Mountain State. For more information\, click here.
URL:https://www.babstcalland.com/event/summer-night-soiree/
LOCATION:J. Q. Dickinson Salt Works
CATEGORIES:Charity,Networking Event
END:VEVENT
END:VCALENDAR