BEGIN:VCALENDAR
VERSION:2.0
PRODID:-//Babst Calland - Attorneys at Law - ECPv6.2.8.1//NONSGML v1.0//EN
CALSCALE:GREGORIAN
METHOD:PUBLISH

X-ORIGINAL-URL:https://www.babstcalland.com

REFRESH-INTERVAL;VALUE=DURATION:PT1H
X-Robots-Tag:noindex
X-PUBLISHED-TTL:PT1H
BEGIN:VTIMEZONE
TZID:UTC
BEGIN:STANDARD
TZOFFSETFROM:+0000
TZOFFSETTO:+0000
TZNAME:UTC
DTSTART:20170101T000000
END:STANDARD
END:VTIMEZONE
BEGIN:VEVENT
DTSTART;VALUE=DATE:20170502
DTEND;VALUE=DATE:20170504
DTSTAMP:20260420T162119
CREATED:20170223T022615Z
LAST-MODIFIED:20221018T205644Z
UID:18231-1493683200-1493855999@www.babstcalland.com
SUMMARY:Marcellus & Manufacturing Development Conference 2017
DESCRIPTION:Join us at the Marcellus & Manufacturing Development Conference\, May 2-3\, 2017.
URL:https://www.babstcalland.com/event/marcellus-manufacturing-development-conference-2017/
LOCATION:Waterfront Place Hotel\, 2 Waterfront Pl. \, Morgantown\, WV\, 26501\, United States
CATEGORIES:Conferences,Networking Event
END:VEVENT
END:VCALENDAR