BEGIN:VCALENDAR
VERSION:2.0
PRODID:-//Babst Calland - Attorneys at Law - ECPv6.2.8.1//NONSGML v1.0//EN
CALSCALE:GREGORIAN
METHOD:PUBLISH

X-ORIGINAL-URL:https://www.babstcalland.com

REFRESH-INTERVAL;VALUE=DURATION:PT1H
X-Robots-Tag:noindex
X-PUBLISHED-TTL:PT1H
BEGIN:VTIMEZONE
TZID:America/New_York
BEGIN:DAYLIGHT
TZOFFSETFROM:-0500
TZOFFSETTO:-0400
TZNAME:EDT
DTSTART:20220313T070000
END:DAYLIGHT
BEGIN:STANDARD
TZOFFSETFROM:-0400
TZOFFSETTO:-0500
TZNAME:EST
DTSTART:20221106T060000
END:STANDARD
END:VTIMEZONE
BEGIN:VEVENT
DTSTART;TZID=America/New_York:20220511T170000
DTEND;TZID=America/New_York:20220511T210000
DTSTAMP:20260420T224715
CREATED:20220420T123430Z
LAST-MODIFIED:20221018T210530Z
UID:34840-1652288400-1652302800@www.babstcalland.com
SUMMARY:2022 ASA's Annual Networking Evening
DESCRIPTION:Babst Calland joins the American Subcontractors Association (ASA) for its Annual Networking Evening on Wednesday\, May 11\, 2022.  For more information\, click here.
URL:https://www.babstcalland.com/event/2022-asas-annual-networking-evening/
LOCATION:Rivers Casino
CATEGORIES:Networking Event
END:VEVENT
END:VCALENDAR