BEGIN:VCALENDAR
VERSION:2.0
PRODID:-//Babst Calland - Attorneys at Law - ECPv6.2.8.1//NONSGML v1.0//EN
CALSCALE:GREGORIAN
METHOD:PUBLISH
X-ORIGINAL-URL:https://www.babstcalland.com

REFRESH-INTERVAL;VALUE=DURATION:PT1H
X-Robots-Tag:noindex
X-PUBLISHED-TTL:PT1H
BEGIN:VTIMEZONE
TZID:America/New_York
BEGIN:DAYLIGHT
TZOFFSETFROM:-0500
TZOFFSETTO:-0400
TZNAME:EDT
DTSTART:20220313T070000
END:DAYLIGHT
BEGIN:STANDARD
TZOFFSETFROM:-0400
TZOFFSETTO:-0500
TZNAME:EST
DTSTART:20221106T060000
END:STANDARD
END:VTIMEZONE
BEGIN:VEVENT
DTSTART;TZID=America/New_York:20220721T083000
DTEND;TZID=America/New_York:20220723T120000
DTSTAMP:20260424T004314
CREATED:20220622T200101Z
LAST-MODIFIED:20221018T210526Z
UID:35884-1658392200-1658577600@www.babstcalland.com
SUMMARY:68th Annual Natural Resources and Energy Law Institute
DESCRIPTION:Babst Calland joins the Foundation for Natural Resources and Energy Law for its 68th Annual Natural Resources and Energy Law Institute\, July 21-23\, 2022. The 68th Annual Institute will feature 34 talks with 57 speakers from private practice\, academia\, government\, industry\, associations\, and other organizations. After opening with a general session on Thursday morning\, the institute will offer attendees choices among separate sessions focusing on oil and gas and landman’s issues\, mining law\, public lands and Indian law\, water law\, environmental law\, corporate counsel legal issues\, international resources issues\, and a NEW session on renewable energy and electricity. For more information\, click here.
URL:https://www.babstcalland.com/event/68th-annual-natural-resources-and-energy-law-institute/
LOCATION:The Hythe
CATEGORIES:CLE,Conferences,Networking Event
END:VEVENT
BEGIN:VEVENT
DTSTART;VALUE=DATE:20220723
DTEND;VALUE=DATE:20220724
DTSTAMP:20260424T004314
CREATED:20220701T125657Z
LAST-MODIFIED:20221018T210526Z
UID:36036-1658534400-1658620799@www.babstcalland.com
SUMMARY:2022 GOH Annual Charity Golf Outing
DESCRIPTION:Babst Calland joins Glenn O. Hawbaker (GOH) for its Annual Charity Golf Outing on Saturday\, July 23\, 2022. For more information\, click here.
URL:https://www.babstcalland.com/event/2022-goh-annual-charity-golf-outing/
LOCATION:White Deer Golf Course
CATEGORIES:Charity,Networking Event
END:VEVENT
END:VCALENDAR