BEGIN:VCALENDAR
VERSION:2.0
PRODID:-//Babst Calland - Attorneys at Law - ECPv6.2.8.1//NONSGML v1.0//EN
CALSCALE:GREGORIAN
METHOD:PUBLISH
X-ORIGINAL-URL:https://www.babstcalland.com

REFRESH-INTERVAL;VALUE=DURATION:PT1H
X-Robots-Tag:noindex
X-PUBLISHED-TTL:PT1H
BEGIN:VTIMEZONE
TZID:America/New_York
BEGIN:DAYLIGHT
TZOFFSETFROM:-0500
TZOFFSETTO:-0400
TZNAME:EDT
DTSTART:20230312T070000
END:DAYLIGHT
BEGIN:STANDARD
TZOFFSETFROM:-0400
TZOFFSETTO:-0500
TZNAME:EST
DTSTART:20231105T060000
END:STANDARD
END:VTIMEZONE
BEGIN:VEVENT
DTSTART;TZID=America/New_York:20230930T074500
DTEND;TZID=America/New_York:20230930T133000
DTSTAMP:20260425T191318
CREATED:20230829T153112Z
LAST-MODIFIED:20230829T153214Z
UID:43340-1696059900-1696080600@www.babstcalland.com
SUMMARY:2023 Professional Development Conference
DESCRIPTION:Babst Calland joins the Penn State Dickinson Law School for its 2nd annual Professional Development Conference on Saturday\, September 30\, 2023. During this forum law students and legal professionals will engage in networking opportunities and panel sessions on a variety of career-related topics. For more information\, click here.
URL:https://www.babstcalland.com/event/2023-professional-development-conference/
LOCATION:SC
CATEGORIES:Networking Event
END:VEVENT
END:VCALENDAR