BEGIN:VCALENDAR
VERSION:2.0
PRODID:-//Babst Calland - Attorneys at Law - ECPv6.2.8.1//NONSGML v1.0//EN
CALSCALE:GREGORIAN
METHOD:PUBLISH
X-ORIGINAL-URL:https://www.babstcalland.com

REFRESH-INTERVAL;VALUE=DURATION:PT1H
X-Robots-Tag:noindex
X-PUBLISHED-TTL:PT1H
BEGIN:VTIMEZONE
TZID:America/New_York
BEGIN:DAYLIGHT
TZOFFSETFROM:-0500
TZOFFSETTO:-0400
TZNAME:EDT
DTSTART:20230312T070000
END:DAYLIGHT
BEGIN:STANDARD
TZOFFSETFROM:-0400
TZOFFSETTO:-0500
TZNAME:EST
DTSTART:20231105T060000
END:STANDARD
END:VTIMEZONE
BEGIN:VEVENT
DTSTART;TZID=America/New_York:20231014T090000
DTEND;TZID=America/New_York:20231014T150000
DTSTAMP:20260425T094257
CREATED:20230829T151657Z
LAST-MODIFIED:20230829T151748Z
UID:43336-1697274000-1697295600@www.babstcalland.com
SUMMARY:2023 MLBC Veterans Charity Sporting Clays
DESCRIPTION:Babst Calland joins the Michael Late Benedum Chapter (MLBC) as it hosts its Veterans Charity Sporting Clays event on Thursday\, October 14\, 2023. Proceeds from this event benefit the WVU College of Law Veterans Advocacy Clinic. For more information\, click here.
URL:https://www.babstcalland.com/event/2023-mlbc-veterans-charity-sporting-clays/
LOCATION:Hunting Hills Shooting Preserve
CATEGORIES:Charity,Networking Event
END:VEVENT
END:VCALENDAR