BEGIN:VCALENDAR
VERSION:2.0
PRODID:-//Babst Calland - Attorneys at Law - ECPv6.2.8.1//NONSGML v1.0//EN
CALSCALE:GREGORIAN
METHOD:PUBLISH
X-ORIGINAL-URL:https://www.babstcalland.com

REFRESH-INTERVAL;VALUE=DURATION:PT1H
X-Robots-Tag:noindex
X-PUBLISHED-TTL:PT1H
BEGIN:VTIMEZONE
TZID:America/New_York
BEGIN:DAYLIGHT
TZOFFSETFROM:-0500
TZOFFSETTO:-0400
TZNAME:EDT
DTSTART:20230312T070000
END:DAYLIGHT
BEGIN:STANDARD
TZOFFSETFROM:-0400
TZOFFSETTO:-0500
TZNAME:EST
DTSTART:20231105T060000
END:STANDARD
END:VTIMEZONE
BEGIN:VEVENT
DTSTART;TZID=America/New_York:20231108T113000
DTEND;TZID=America/New_York:20231108T140000
DTSTAMP:20260425T112650
CREATED:20231011T151208Z
LAST-MODIFIED:20231117T203104Z
UID:43666-1699443000-1699452000@www.babstcalland.com
SUMMARY:Purchase and Sale of Environmentally Distressed Properties
DESCRIPTION:On Wednesday\, November 8\, 2023\, Babst Calland Corporate and Commercial Attorneys Mary Binker and Ben Clapp will present “Purchase and Sale of Environmentally Distressed Properties” to the Western Pennsylvania Chapter of the Association of Corporate Counsel (ACC). This two-hour CLE that will provide an in-depth review of legal considerations associated with the purchase and sale of environmentally distressed properties from both the Purchaser and Seller’s perspectives.  This program will first provide an overview of the framework of environmental laws establishing liability for the ownership or operation of contaminated properties\, followed by how these laws and existing environmental conditions on the subject site can impact a party’s diligence considerations and inspections.  It will then turn to transaction structures and contractual mechanisms for allocating environmental liabilities between the parties.  Finally\, the program will also cover voluntary action programs\, brownfield grants\, and other regulatory programs aimed at assisting with returning environmentally challenged properties back to productive use. For more information\, click here. \nMary Binker \nBen Clapp
URL:https://www.babstcalland.com/event/purchase-and-sale-of-environmentally-distressed-properties/
LOCATION:Hotel Indigo Pittsburgh\, 329 Technology Drive\, Pittsburgh\, PA\, 15219\, United States
CATEGORIES:CLE,Networking Event,Presentations
END:VEVENT
END:VCALENDAR