BEGIN:VCALENDAR
VERSION:2.0
PRODID:-//Babst Calland - Attorneys at Law - ECPv6.2.8.1//NONSGML v1.0//EN
CALSCALE:GREGORIAN
METHOD:PUBLISH
X-ORIGINAL-URL:https://www.babstcalland.com

REFRESH-INTERVAL;VALUE=DURATION:PT1H
X-Robots-Tag:noindex
X-PUBLISHED-TTL:PT1H
BEGIN:VTIMEZONE
TZID:America/New_York
BEGIN:DAYLIGHT
TZOFFSETFROM:-0500
TZOFFSETTO:-0400
TZNAME:EDT
DTSTART:20230312T070000
END:DAYLIGHT
BEGIN:STANDARD
TZOFFSETFROM:-0400
TZOFFSETTO:-0500
TZNAME:EST
DTSTART:20231105T060000
END:STANDARD
END:VTIMEZONE
BEGIN:VEVENT
DTSTART;TZID=America/New_York:20231129T113000
DTEND;TZID=America/New_York:20231129T133000
DTSTAMP:20260425T143349
CREATED:20231003T133840Z
LAST-MODIFIED:20231003T133840Z
UID:42842-1701257400-1701264600@www.babstcalland.com
SUMMARY:2023 Pittsburgh Smart 50 Awards
DESCRIPTION:Babst Calland joins Smart Business for their Pittsburgh Smart 50 Awards on Wednesday\, November 29\, 2023. Since 2014\, the Pittsburgh Smart 50 Awards has recognized the top executives of the 50 smartest companies in the Greater Pittsburgh region for their ability to effectively build and lead successful organizations. This year’s 50 winners will be honored at a special celebration\, and three organizations will receive specialty awards for their achievements in three category areas – innovation\, impact and sustainability. Additionally\, all guests will be treated to a keynote address on what it takes to lead a successful “smart” company. For more information\, click here.
URL:https://www.babstcalland.com/event/2023-pittsburgh-smart-50-awards/
LOCATION:The Westin Pittsburgh\, 1000 Penn Avenue\, Pittsburgh\, 15222\, United States
CATEGORIES:Networking Event
END:VEVENT
END:VCALENDAR