BEGIN:VCALENDAR
VERSION:2.0
PRODID:-//Babst Calland - Attorneys at Law - ECPv6.2.8.1//NONSGML v1.0//EN
CALSCALE:GREGORIAN
METHOD:PUBLISH
X-ORIGINAL-URL:https://www.babstcalland.com

REFRESH-INTERVAL;VALUE=DURATION:PT1H
X-Robots-Tag:noindex
X-PUBLISHED-TTL:PT1H
BEGIN:VTIMEZONE
TZID:America/New_York
BEGIN:DAYLIGHT
TZOFFSETFROM:-0500
TZOFFSETTO:-0400
TZNAME:EDT
DTSTART:20240310T070000
END:DAYLIGHT
BEGIN:STANDARD
TZOFFSETFROM:-0400
TZOFFSETTO:-0500
TZNAME:EST
DTSTART:20241103T060000
END:STANDARD
END:VTIMEZONE
BEGIN:VEVENT
DTSTART;TZID=America/New_York:20240418T080000
DTEND;TZID=America/New_York:20240418T170000
DTSTAMP:20260424T115842
CREATED:20240223T155438Z
LAST-MODIFIED:20240322T200245Z
UID:46048-1713427200-1713459600@www.babstcalland.com
SUMMARY:2024 PIOGA Spring Meeting
DESCRIPTION:Attorneys Kevin Garber\, Jean Mosites and Gary Steinbauer will co-present “Legal Update on Regulatory Issues” during PIOGA’s Spring Meeting on Thursday\, April 18\, 2024. For more information\, click here. \nKevin Garber \nJean Mosites \nGary Steinbauer
URL:https://www.babstcalland.com/event/2024-pioga-spring-meeting/
LOCATION:Rivers Casino
CATEGORIES:Networking Event,Presentations
END:VEVENT
END:VCALENDAR