BEGIN:VCALENDAR
VERSION:2.0
PRODID:-//Babst Calland - Attorneys at Law - ECPv6.2.8.1//NONSGML v1.0//EN
CALSCALE:GREGORIAN
METHOD:PUBLISH

X-ORIGINAL-URL:https://www.babstcalland.com

REFRESH-INTERVAL;VALUE=DURATION:PT1H
X-Robots-Tag:noindex
X-PUBLISHED-TTL:PT1H
BEGIN:VTIMEZONE
TZID:America/New_York
BEGIN:DAYLIGHT
TZOFFSETFROM:-0500
TZOFFSETTO:-0400
TZNAME:EDT
DTSTART:20240310T070000
END:DAYLIGHT
BEGIN:STANDARD
TZOFFSETFROM:-0400
TZOFFSETTO:-0500
TZNAME:EST
DTSTART:20241103T060000
END:STANDARD
END:VTIMEZONE
BEGIN:VEVENT
DTSTART;TZID=America/New_York:20240513T063000
DTEND;TZID=America/New_York:20240513T180000
DTSTAMP:20260424T060523
CREATED:20240222T152226Z
LAST-MODIFIED:20240222T152226Z
UID:46042-1715581800-1715623200@www.babstcalland.com
SUMMARY:2024 Centre County Youth Service Bureau’s On the Fly Tournament
DESCRIPTION:Babst Calland joins the Centre County Youth Service Bureau for its “On the Fly” tournament on Monday\, May 13\, 2024. All proceeds from this unique one-fly tournament benefit the Centre County Youth Service Bureau. For more information\, click here.
URL:https://www.babstcalland.com/event/2024-centre-county-youth-service-bureaus-on-the-fly-tournament/
LOCATION:Wayne Harpster Farm
CATEGORIES:Charity,Networking Event
END:VEVENT
END:VCALENDAR