BEGIN:VCALENDAR
VERSION:2.0
PRODID:-//Babst Calland - Attorneys at Law - ECPv6.2.8.1//NONSGML v1.0//EN
CALSCALE:GREGORIAN
METHOD:PUBLISH

X-ORIGINAL-URL:https://www.babstcalland.com

REFRESH-INTERVAL;VALUE=DURATION:PT1H
X-Robots-Tag:noindex
X-PUBLISHED-TTL:PT1H
BEGIN:VTIMEZONE
TZID:America/New_York
BEGIN:DAYLIGHT
TZOFFSETFROM:-0500
TZOFFSETTO:-0400
TZNAME:EDT
DTSTART:20240310T070000
END:DAYLIGHT
BEGIN:STANDARD
TZOFFSETFROM:-0400
TZOFFSETTO:-0500
TZNAME:EST
DTSTART:20241103T060000
END:STANDARD
END:VTIMEZONE
BEGIN:VEVENT
DTSTART;TZID=America/New_York:20240522T170000
DTEND;TZID=America/New_York:20240522T190000
DTSTAMP:20260424T044120
CREATED:20240508T201352Z
LAST-MODIFIED:20240508T201352Z
UID:47078-1716397200-1716404400@www.babstcalland.com
SUMMARY:Green Event:  ACBA Environment and Energy Scholarship Fundraiser
DESCRIPTION:Babst Calland joins the Allegheny County Bar Association’s (ACBA) Environment and Energy Law Section for their “Green Event” on Wednesday\, May 22\, 2024.  During the event – which has the goal of raising money for law students aiming to practice environmental and/or energy law – representatives from the YMCA will discuss the organization’s housing program\, ongoing renovations to the Allegheny YMCA (on Pittsburgh’s North Side) and more. Following the presentation\, the event will move to the YMCA’s rooftop greenspace for a reception. For more information\, click here.
URL:https://www.babstcalland.com/event/green-event-acba-environment-and-energy-scholarship-fundraiser/
LOCATION:Thelma Lovette YMCA
CATEGORIES:Charity,Networking Event
END:VEVENT
END:VCALENDAR