BEGIN:VCALENDAR
VERSION:2.0
PRODID:-//Babst Calland - Attorneys at Law - ECPv6.2.8.1//NONSGML v1.0//EN
CALSCALE:GREGORIAN
METHOD:PUBLISH
X-ORIGINAL-URL:https://www.babstcalland.com

REFRESH-INTERVAL;VALUE=DURATION:PT1H
X-Robots-Tag:noindex
X-PUBLISHED-TTL:PT1H
BEGIN:VTIMEZONE
TZID:America/New_York
BEGIN:DAYLIGHT
TZOFFSETFROM:-0500
TZOFFSETTO:-0400
TZNAME:EDT
DTSTART:20240310T070000
END:DAYLIGHT
BEGIN:STANDARD
TZOFFSETFROM:-0400
TZOFFSETTO:-0500
TZNAME:EST
DTSTART:20241103T060000
END:STANDARD
END:VTIMEZONE
BEGIN:VEVENT
DTSTART;TZID=America/New_York:20240722T103000
DTEND;TZID=America/New_York:20240722T180000
DTSTAMP:20260421T023456
CREATED:20240313T141052Z
LAST-MODIFIED:20240313T141052Z
UID:46265-1721644200-1721671200@www.babstcalland.com
SUMMARY:2024 Summer Swing Golf Classic
DESCRIPTION:Babst Calland joins St. Clair Health Foundation for its 25th Annual Summer Swing Golf Classic on Monday\, July 22\, 2024. All event proceeds will be invested in the education and learning of St. Clair Health Foundation’s workforce for generations to come. For more information\, click here.
URL:https://www.babstcalland.com/event/2024-summer-swing-golf-classic/
LOCATION:SC
CATEGORIES:Charity,Networking Event
END:VEVENT
END:VCALENDAR