BEGIN:VCALENDAR
VERSION:2.0
PRODID:-//Babst Calland - Attorneys at Law - ECPv6.2.8.1//NONSGML v1.0//EN
CALSCALE:GREGORIAN
METHOD:PUBLISH

X-ORIGINAL-URL:https://www.babstcalland.com

REFRESH-INTERVAL;VALUE=DURATION:PT1H
X-Robots-Tag:noindex
X-PUBLISHED-TTL:PT1H
BEGIN:VTIMEZONE
TZID:America/New_York
BEGIN:DAYLIGHT
TZOFFSETFROM:-0500
TZOFFSETTO:-0400
TZNAME:EDT
DTSTART:20240310T070000
END:DAYLIGHT
BEGIN:STANDARD
TZOFFSETFROM:-0400
TZOFFSETTO:-0500
TZNAME:EST
DTSTART:20241103T060000
END:STANDARD
END:VTIMEZONE
BEGIN:VEVENT
DTSTART;TZID=America/New_York:20240913T093000
DTEND;TZID=America/New_York:20240913T170000
DTSTAMP:20260420T151020
CREATED:20240912T142917Z
LAST-MODIFIED:20240912T142917Z
UID:48704-1726219800-1726246800@www.babstcalland.com
SUMMARY:2024 On the Field
DESCRIPTION:Babst Calland joins the Centre County Youth Service Bureau (CCYSB) for On the Field on Friday\, September 13\, 2024. All proceeds benefit the CCYSB\, a private nonprofit organization that has been strengthening children and families since 1968. Through an extensive array of programs working with parents of newborns up through older teens moving out on their own\, CCYSB works to keep kids safe and give every child the opportunity to reach his or her potential. For more information\, click here.
URL:https://www.babstcalland.com/event/2024-on-the-field/
LOCATION:Shenecoy Sportsmen Club
CATEGORIES:Charity,Networking Event
END:VEVENT
END:VCALENDAR