BEGIN:VCALENDAR
VERSION:2.0
PRODID:-//Babst Calland - Attorneys at Law - ECPv6.2.8.1//NONSGML v1.0//EN
CALSCALE:GREGORIAN
METHOD:PUBLISH

X-ORIGINAL-URL:https://www.babstcalland.com

REFRESH-INTERVAL;VALUE=DURATION:PT1H
X-Robots-Tag:noindex
X-PUBLISHED-TTL:PT1H
BEGIN:VTIMEZONE
TZID:America/New_York
BEGIN:DAYLIGHT
TZOFFSETFROM:-0500
TZOFFSETTO:-0400
TZNAME:EDT
DTSTART:20240310T070000
END:DAYLIGHT
BEGIN:STANDARD
TZOFFSETFROM:-0400
TZOFFSETTO:-0500
TZNAME:EST
DTSTART:20241103T060000
END:STANDARD
END:VTIMEZONE
BEGIN:VEVENT
DTSTART;TZID=America/New_York:20241007T163000
DTEND;TZID=America/New_York:20241007T210000
DTSTAMP:20260420T192822
CREATED:20240912T132947Z
LAST-MODIFIED:20240912T132947Z
UID:48698-1728318600-1728334800@www.babstcalland.com
SUMMARY:PA Chamber Annual Dinner
DESCRIPTION:Babst Calland joins the PA Chamber of Business & Industry for its Annual Dinner on Monday\, October 7\, 2024. For more information\, click here.
URL:https://www.babstcalland.com/event/pa-chamber-annual-dinner/
LOCATION:Hershey Lodge
CATEGORIES:Networking Event,Presentations
END:VEVENT
END:VCALENDAR