BEGIN:VCALENDAR
VERSION:2.0
PRODID:-//Babst Calland - Attorneys at Law - ECPv6.2.8.1//NONSGML v1.0//EN
CALSCALE:GREGORIAN
METHOD:PUBLISH

X-ORIGINAL-URL:https://www.babstcalland.com

REFRESH-INTERVAL;VALUE=DURATION:PT1H
X-Robots-Tag:noindex
X-PUBLISHED-TTL:PT1H
BEGIN:VTIMEZONE
TZID:America/New_York
BEGIN:DAYLIGHT
TZOFFSETFROM:-0500
TZOFFSETTO:-0400
TZNAME:EDT
DTSTART:20240310T070000
END:DAYLIGHT
BEGIN:STANDARD
TZOFFSETFROM:-0400
TZOFFSETTO:-0500
TZNAME:EST
DTSTART:20241103T060000
END:STANDARD
END:VTIMEZONE
BEGIN:VEVENT
DTSTART;TZID=America/New_York:20241010T090000
DTEND;TZID=America/New_York:20241010T150000
DTSTAMP:20260420T105141
CREATED:20240827T191813Z
LAST-MODIFIED:20240827T191813Z
UID:48548-1728550800-1728572400@www.babstcalland.com
SUMMARY:2024 MLBC Veterans Charity Sporting Clays
DESCRIPTION:Babst Calland joins the Michael Late Benedum Chapter (MLBC) as it hosts its Veterans Charity Sporting Clays event on Thursday\, October 10\, 2024. Proceeds from this event benefit the WVU Veterans Advocacy Law Clinic. For more information\, click here.
URL:https://www.babstcalland.com/event/2024-mlbc-veterans-charity-sporting-clays/
LOCATION:Hunting Hills Shooting Preserve
CATEGORIES:Charity,Networking Event
END:VEVENT
END:VCALENDAR